BEGIN:VCALENDAR
VERSION:2.0
PRODID:-//Comisión Ejecutiva Portuaria Autónoma CEPA El Salvador - ECPv6.15.13//NONSGML v1.0//EN
CALSCALE:GREGORIAN
METHOD:PUBLISH
X-WR-CALNAME:Comisión Ejecutiva Portuaria Autónoma CEPA El Salvador
X-ORIGINAL-URL:https://www.cepa.gob.sv
X-WR-CALDESC:Eventos para Comisión Ejecutiva Portuaria Autónoma CEPA El Salvador
REFRESH-INTERVAL;VALUE=DURATION:PT1H
X-Robots-Tag:noindex
X-PUBLISHED-TTL:PT1H
BEGIN:VTIMEZONE
TZID:America/Chicago
BEGIN:DAYLIGHT
TZOFFSETFROM:-0600
TZOFFSETTO:-0500
TZNAME:CDT
DTSTART:20220313T080000
END:DAYLIGHT
BEGIN:STANDARD
TZOFFSETFROM:-0500
TZOFFSETTO:-0600
TZNAME:CST
DTSTART:20221106T070000
END:STANDARD
BEGIN:DAYLIGHT
TZOFFSETFROM:-0600
TZOFFSETTO:-0500
TZNAME:CDT
DTSTART:20230312T080000
END:DAYLIGHT
BEGIN:STANDARD
TZOFFSETFROM:-0500
TZOFFSETTO:-0600
TZNAME:CST
DTSTART:20231105T070000
END:STANDARD
BEGIN:DAYLIGHT
TZOFFSETFROM:-0600
TZOFFSETTO:-0500
TZNAME:CDT
DTSTART:20240310T080000
END:DAYLIGHT
BEGIN:STANDARD
TZOFFSETFROM:-0500
TZOFFSETTO:-0600
TZNAME:CST
DTSTART:20241103T070000
END:STANDARD
BEGIN:DAYLIGHT
TZOFFSETFROM:-0600
TZOFFSETTO:-0500
TZNAME:CDT
DTSTART:20250309T080000
END:DAYLIGHT
BEGIN:STANDARD
TZOFFSETFROM:-0500
TZOFFSETTO:-0600
TZNAME:CST
DTSTART:20251102T070000
END:STANDARD
END:VTIMEZONE
BEGIN:VEVENT
DTSTART;TZID=America/Chicago:20240226T080000
DTEND;TZID=America/Chicago:20240228T235500
DTSTAMP:20260421T205127
CREATED:20240226T230304Z
LAST-MODIFIED:20240226T230304Z
UID:11440-1708934400-1709164500@www.cepa.gob.sv
SUMMARY:CEPA-CDP 18/2024\,“SUMINISTRO DE PAPEL HIGIÉNICO PARA EL AEROPUERTO INTERNACIONAL DE EL SALVADOR\, SAN ÓSCAR ARNULFO ROMERO Y GALDÁMEZ”
DESCRIPTION:DSO CDP-18-2024 SUMINISTRO DE PAPEL HIGIENICO COMPRASAL \n  \nDSO CDP-18-2024 SUMINISTRO DE PAPEL HIGIENICO COMPRASAL
URL:https://www.cepa.gob.sv/event/cepa-cdp-18-2024suministro-de-papel-higienico-para-el-aeropuerto-internacional-de-el-salvador-san-oscar-arnulfo-romero-y-galdamez/
CATEGORIES:Licitación Abierta
END:VEVENT
BEGIN:VEVENT
DTSTART;TZID=America/Chicago:20240222T110000
DTEND;TZID=America/Chicago:20240307T164500
DTSTAMP:20260421T205127
CREATED:20240222T180132Z
LAST-MODIFIED:20240222T180132Z
UID:11409-1708599600-1709829900@www.cepa.gob.sv
SUMMARY:LICITACIÓN COMPETITIVA CEPA LC 07/2024 “SUMINISTRO DE DEPÓSITOS PARA BASURA PARA EL AEROPUERTO INTERNACIONAL DE EL SALVADOR\, SAN ÓSCAR ARNULFO ROMERO Y GALDÁMEZ”
DESCRIPTION:DSO CEPA LC 07-2024 Suministro de basureros AIES-SOARG.docx \nDSO CEPA LC-07-2024 Suministro de depósitos para basura para AIES-SOARG.pdf
URL:https://www.cepa.gob.sv/event/licitacion-competitiva-cepa-lc-07-2024-suministro-de-depositos-para-basura-para-el-aeropuerto-internacional-de-el-salvador-san-oscar-arnulfo-romero-y-galdamez/
CATEGORIES:Licitación Abierta
END:VEVENT
BEGIN:VEVENT
DTSTART;TZID=America/Chicago:20240219T140000
DTEND;TZID=America/Chicago:20240226T235500
DTSTAMP:20260421T205127
CREATED:20240219T201338Z
LAST-MODIFIED:20240219T201338Z
UID:11402-1708351200-1708991700@www.cepa.gob.sv
SUMMARY:CEPA-SI 05/2024 “ARRENDAMIENTO DE SERVIDORES DE COMUNICACIÓN TELEFÓNICA PARA OFICINA CENTRAL Y PUERTO DE ACAJUTLA”
DESCRIPTION:DSO SUBASTA INVERSA CEPA-SI 5-2024-PLANTA TELEFÓNICA-comprasal.docx \nDSO SUBASTA INVERSA CEPA-SI 5-2024-PLANTA TELEFÓNICA-comprasal.pdf
URL:https://www.cepa.gob.sv/event/cepa-si-05-2024-arrendamiento-de-servidores-de-comunicacion-telefonica-para-oficina-central-y-puerto-de-acajutla/
CATEGORIES:Licitación Abierta
END:VEVENT
BEGIN:VEVENT
DTSTART;TZID=America/Chicago:20240208T163000
DTEND;TZID=America/Chicago:20240209T164500
DTSTAMP:20260421T205127
CREATED:20240208T223601Z
LAST-MODIFIED:20240208T223601Z
UID:11396-1707409800-1707497100@www.cepa.gob.sv
SUMMARY:CEPA-CDP 11/2024 “SUMINISTRO DE MATERIALES PARA LA FABRICACIÓN E INSTALACIÓN DE PUNTOS DE AMARRE PARA PARA LA SUJECIÓN DE CUERDAS DE VIDA EN TECHOS DE EDIFICACIONES DEL PUERTO DE ACAJUTLA”
DESCRIPTION:DSO CEPA CDP-11-2024.docx \nDSO CEPA CDP-11-2024.pdf
URL:https://www.cepa.gob.sv/event/cepa-cdp-11-2024-suministro-de-materiales-para-la-fabricacion-e-instalacion-de-puntos-de-amarre-para-para-la-sujecion-de-cuerdas-de-vida-en-techos-de-edificaciones-del-puerto-de-acajutla/
CATEGORIES:Licitación Abierta
END:VEVENT
BEGIN:VEVENT
DTSTART;TZID=America/Chicago:20240207T140000
DTEND;TZID=America/Chicago:20240215T164500
DTSTAMP:20260421T205127
CREATED:20240207T204011Z
LAST-MODIFIED:20240207T204011Z
UID:11391-1707314400-1708015500@www.cepa.gob.sv
SUMMARY:CEPA CD-02/2024\, “SERVICIO DE SEGURIDAD PARA EL ESTACIONAMIENTO PÚBLICO DE LA TERMINAL DE PASAJEROS Y TERMINAL DE CARGA DEL AEROPUERTO INTERNACIONAL DE EL SALVADOR\, SAN OSCAR ARNULFO ROMERO Y GALDAMEZ”
DESCRIPTION:DSO CEPA CD 02-2024 VIGILANCIA AIES.docx
URL:https://www.cepa.gob.sv/event/cepa-cd-02-2024-servicio-de-seguridad-para-el-estacionamiento-publico-de-la-terminal-de-pasajeros-y-terminal-de-carga-del-aeropuerto-internacional-de-el-salvador-san-oscar-arnulfo-romero-y/
CATEGORIES:Licitación Abierta
END:VEVENT
BEGIN:VEVENT
DTSTART;TZID=America/Chicago:20240129T140000
DTEND;TZID=America/Chicago:20240131T164500
DTSTAMP:20260421T205127
CREATED:20240129T225332Z
LAST-MODIFIED:20240129T225332Z
UID:11367-1706536800-1706719500@www.cepa.gob.sv
SUMMARY:CEPA CD-05/2024\, “Servicio de recolección y tratamiento de desechos sólidos y comunes para el Aeropuerto Internacional de El Salvador\, San Óscar Arnulfo Romero y Galdámez”
DESCRIPTION:DSO CEPA CD 05-2024 Desechos sólidos.docx \nDSO CEPA CD-06-2024 Servicio de recolección y tratamiento de desechos solidos AIES-SOARG.pdf
URL:https://www.cepa.gob.sv/event/cepa-cd-05-2024-servicio-de-recoleccion-y-tratamiento-de-desechos-solidos-y-comunes-para-el-aeropuerto-internacional-de-el-salvador-san-oscar-arnulfo-romero-y-galdamez/
CATEGORIES:Licitación Abierta
END:VEVENT
BEGIN:VEVENT
DTSTART;TZID=America/Chicago:20240129T080000
DTEND;TZID=America/Chicago:20240201T235500
DTSTAMP:20260421T205127
CREATED:20240129T143849Z
LAST-MODIFIED:20240129T143849Z
UID:11333-1706515200-1706831700@www.cepa.gob.sv
SUMMARY:CEPA SI 4/2024\, “SERVICIO DE TELEVISIÓN POR CABLE PARA OFICINA CENTRAL\, PUERTO DE ACAJUTLA\, AEROPUERTO INTERNACIONAL DE EL SALVADOR\, SAN ÓSCAR ARNULFO ROMERO Y GALDÁMEZ Y AEROPUERTO INTERNACIONAL DE ILOPANGO”
DESCRIPTION:DSO SI 04-2024- CABLE TV CEPA ( COMPRASAL ).docx \nDSO SI 04-2024- CABLE TV CEPA COMPRASAL.pdf
URL:https://www.cepa.gob.sv/event/cepa-si-4-2024-servicio-de-television-por-cable-para-oficina-central-puerto-de-acajutla-aeropuerto-internacional-de-el-salvador-san-oscar-arnulfo-romero-y-galdamez-y-aeropuerto-internacio/
CATEGORIES:Licitación Abierta
END:VEVENT
BEGIN:VEVENT
DTSTART;TZID=America/Chicago:20240129T080000
DTEND;TZID=America/Chicago:20240130T235500
DTSTAMP:20260421T205127
CREATED:20240129T214909Z
LAST-MODIFIED:20240130T194432Z
UID:11363-1706515200-1706658900@www.cepa.gob.sv
SUMMARY:CEPA-CDP 12/2024\, “SUMINISTRO DE UN TALADRO ROTOMARTILLO PARA LAS REPARACIONES DE LOS MUELLES “A Y B” DEL PUERTO DE ACAJUTLA”
DESCRIPTION:DSO CDP 12-2023 ROTOMARTILLO PUBLICADO.pdf \nDSO CDP 12-2024 ROTOMARTILLO (COMPRASAL).docx \nACLARACION No1 CDP 12-2024 ROTOMARTILLO.pdf
URL:https://www.cepa.gob.sv/event/cepa-cdp-12-2024-suministro-de-un-taladro-rotomartillo-para-las-reparaciones-de-los-muelles-a-y-b-del-puerto-de-acajutla/
CATEGORIES:Licitación Abierta
END:VEVENT
BEGIN:VEVENT
DTSTART;TZID=America/Chicago:20240125T140000
DTEND;TZID=America/Chicago:20240126T120100
DTSTAMP:20260421T205127
CREATED:20240125T195513Z
LAST-MODIFIED:20240125T195513Z
UID:11325-1706191200-1706270460@www.cepa.gob.sv
SUMMARY:CEPA-ADP 01/2024 “ESTUDIO DE GEOTECNIA INTEGRATIVA PARA MEJORAMIENTO DE LA QUEBRADA EL AGUILA PARA EL AEROPUERTO INTERNACIONAL DEL PACÍFICO”
DESCRIPTION:DSO CEPA ADP-01-2024.docx
URL:https://www.cepa.gob.sv/event/cepa-adp-01-2024-estudio-de-geotecnia-integrativa-para-mejoramiento-de-la-quebrada-el-aguila-para-el-aeropuerto-internacional-del-pacifico/
CATEGORIES:Licitación Abierta
END:VEVENT
BEGIN:VEVENT
DTSTART;TZID=America/Chicago:20240123T140000
DTEND;TZID=America/Chicago:20240124T164500
DTSTAMP:20260421T205127
CREATED:20240123T202726Z
LAST-MODIFIED:20240123T202726Z
UID:11301-1706018400-1706114700@www.cepa.gob.sv
SUMMARY:CEPA-CDP 10/2024 “SERVICIO DE TAXIS PARA PERSONAL DE OFICINA CENTRAL Y DEL AEROPUERTO INTERNACIONAL DE EL SALVADOR\, SAN ÓSCAR ARNULFO ROMERO Y GALDÁMEZ”
DESCRIPTION:DSO CEPA- CDP 10-2024.pdf \nDSO CEPA CDP-10-2024.docx
URL:https://www.cepa.gob.sv/event/cepa-cdp-10-2024-servicio-de-taxis-para-personal-de-oficina-central-y-del-aeropuerto-internacional-de-el-salvador-san-oscar-arnulfo-romero-y-galdamez/
CATEGORIES:Licitación Abierta
END:VEVENT
BEGIN:VEVENT
DTSTART;TZID=America/Chicago:20240123T120000
DTEND;TZID=America/Chicago:20240329T164500
DTSTAMP:20260421T205127
CREATED:20240123T204756Z
LAST-MODIFIED:20240123T204834Z
UID:11306-1706011200-1711730700@www.cepa.gob.sv
SUMMARY:CEPA LA-03/2024: “CONTRATACIÓN DE SERVICIOS DE TRANSPORTE PARA LA TRANSFERENCIA DE CARGA EN EL INTERIOR DEL RECINTO PORTUARIO DE ACAJUTLA”
DESCRIPTION:DSO CEPA LA 03-2024 TRANSFERENCIA CARGA INTER ACAJ (REV WVF).docx \nDSO CEPA LA 03-2024 TRANSFERENCIA CARGA INTER ACAJ.pdf \nPIP CEPA LA-03 2024 TRANSF DE CARGA INTERNA ACAJ.pdf
URL:https://www.cepa.gob.sv/event/11306/
CATEGORIES:Licitación Abierta
END:VEVENT
BEGIN:VEVENT
DTSTART;TZID=America/Chicago:20240123T084000
DTEND;TZID=America/Chicago:20240315T164500
DTSTAMP:20260421T205127
CREATED:20240123T165117Z
LAST-MODIFIED:20240123T165117Z
UID:11297-1705999200-1710521100@www.cepa.gob.sv
SUMMARY:CEPA LC-06/2024: “REPARACIÓN DE LA SUPERFICIE ASFÁLTICA EN CALLE DE RODAJE DELTA Y CHARLIE\, DEL AEROPUERTO INTERNACIONAL DE ILOPANGO””
DESCRIPTION:DSO LC-6 2024 REPARACION SUPERF ASFALTICA AILO (REV WVF).docx \nDSO LC-6 2024 REPARACION SUPERF ASFALTICA AILO.pdf \nPIP PROCESO CEPA LC-06 2024 REPAR SUPERF ASFALT CALLES RODAJE AILO.pdf
URL:https://www.cepa.gob.sv/event/cepa-lc-06-2024-reparacion-de-la-superficie-asfaltica-en-calle-de-rodaje-delta-y-charlie-del-aeropuerto-internacional-de-ilopango/
CATEGORIES:Licitación Abierta
END:VEVENT
BEGIN:VEVENT
DTSTART;TZID=America/Chicago:20240123T080000
DTEND;TZID=America/Chicago:20240124T164500
DTSTAMP:20260421T205127
CREATED:20240123T161202Z
LAST-MODIFIED:20240123T161202Z
UID:11292-1705996800-1706114700@www.cepa.gob.sv
SUMMARY:Contratación Directa CEPA CD-03/2024\, “Servicio de Despacho Jurídico para Asesoría en Derecho Laboral para la CEPA”
DESCRIPTION:DSO CEPA CD 03-2024 DESPACHO LABORAL.docx
URL:https://www.cepa.gob.sv/event/contratacion-directa-cepa-cd-03-2024-servicio-de-despacho-juridico-para-asesoria-en-derecho-laboral-para-la-cepa/
CATEGORIES:Licitación Abierta
END:VEVENT
BEGIN:VEVENT
DTSTART;TZID=America/Chicago:20240119T080000
DTEND;TZID=America/Chicago:20240126T164500
DTSTAMP:20260421T205127
CREATED:20240119T165329Z
LAST-MODIFIED:20240119T165329Z
UID:11289-1705651200-1706287500@www.cepa.gob.sv
SUMMARY:CEPA-CDP 09/2024 “SERVICIO DE LABORATORIO PARA AGUAS RESIDUALES Y AGUA POTABLE PARA EL PUERTO DE ACAJUTLA\, AEROPUERTO INTERNACIONAL DE EL SALVADOR\, SAN ÓSCAR ARNULFO ROMERO Y GALDÁMEZ Y PUERTO DE LA UNIÓN”
DESCRIPTION:DSO CEPA-CDP 09-2024.docx \nDSO CEPA-CDP 09-2024.pdf
URL:https://www.cepa.gob.sv/event/cepa-cdp-09-2024-servicio-de-laboratorio-para-aguas-residuales-y-agua-potable-para-el-puerto-de-acajutla-aeropuerto-internacional-de-el-salvador-san-oscar-arnulfo-romero-y-galdamez-y-puerto/
CATEGORIES:Licitación Abierta
END:VEVENT
BEGIN:VEVENT
DTSTART;TZID=America/Chicago:20240117T080000
DTEND;TZID=America/Chicago:20240122T164500
DTSTAMP:20260421T205127
CREATED:20240117T180703Z
LAST-MODIFIED:20240117T180703Z
UID:11283-1705478400-1705941900@www.cepa.gob.sv
SUMMARY:CEPA-SI 03/2024\, “DESMONTAJE\, SUMINISTRO E INSTALACIÓN DE VIDRIO CENTRAL EN FACHADA SUR DE LA TORRE DE CONTROL DEL AEROPUERTO INTERNACIONAL DE EL SALVADOR\, SAN ÓSCAR ARNULFO ROMERO Y GALDÁMEZ”
DESCRIPTION:DSO SI 03-2024 vidrio publicado.docx
URL:https://www.cepa.gob.sv/event/cepa-si-03-2024-desmontaje-suministro-e-instalacion-de-vidrio-central-en-fachada-sur-de-la-torre-de-control-del-aeropuerto-internacional-de-el-salvador-san-oscar-arnulfo-romero-y-galdamez/
CATEGORIES:Licitación Abierta
END:VEVENT
BEGIN:VEVENT
DTSTART;TZID=America/Chicago:20240116T080000
DTEND;TZID=America/Chicago:20240122T164500
DTSTAMP:20260421T205127
CREATED:20240116T230714Z
LAST-MODIFIED:20240116T230714Z
UID:11277-1705392000-1705941900@www.cepa.gob.sv
SUMMARY:CEPA-CDP 04/2024 “SERVICIO DE ENTRENADOR TÉCNICO\, FÍSICO Y TÁCTICO\, PARA LA ESCUELA INFANTO JUVENIL DE FÚTBOL DE CEPA”
DESCRIPTION:DSO CEPA-CDP 4-2024.docx \nDSO CEPA-CDP 4-2024.pdf
URL:https://www.cepa.gob.sv/event/cepa-cdp-04-2024-servicio-de-entrenador-tecnico-fisico-y-tactico-para-la-escuela-infanto-juvenil-de-futbol-de-cepa/
CATEGORIES:Licitación Abierta
END:VEVENT
BEGIN:VEVENT
DTSTART;TZID=America/Chicago:20240116T080000
DTEND;TZID=America/Chicago:20240122T164500
DTSTAMP:20260421T205127
CREATED:20240116T155745Z
LAST-MODIFIED:20240116T155745Z
UID:11235-1705392000-1705941900@www.cepa.gob.sv
SUMMARY:CEPA-CDP 07/2024 “SERVICIO DE CONSULTA MÉDICA PEDIÁTRICA PARA LOS HIJOS E HIJAS DE EMPLEADOS DE CEPA”
DESCRIPTION:DSO CEPA-CDP 07-2024 Servicio de consultas médicas para hijo de empleados.docx
URL:https://www.cepa.gob.sv/event/cepa-cdp-07-2024-servicio-de-consulta-medica-pediatrica-para-los-hijos-e-hijas-de-empleados-de-cepa/
CATEGORIES:Licitación Abierta
END:VEVENT
BEGIN:VEVENT
DTSTART;TZID=America/Chicago:20240109T150000
DTEND;TZID=America/Chicago:20240115T235500
DTSTAMP:20260421T205127
CREATED:20240109T224316Z
LAST-MODIFIED:20240109T224316Z
UID:11229-1704812400-1705362900@www.cepa.gob.sv
SUMMARY:CEPA CDP 02/2024\, “ARRENDAMIENTO DE SERVIDORES DE COMUNICACIÓN TELEFÓNICA PARA OFICINA CENTRAL Y PUERTO DE ACAJUTLA”
DESCRIPTION:DSO CDP 02-2024 COMPRASAL.pdf \nDSO CEPA-CDP 02-2024-ARRENDAMEINTO DE PLANTA TELEFONICA COMPRASAL.docx
URL:https://www.cepa.gob.sv/event/cepa-cdp-02-2024-arrendamiento-de-servidores-de-comunicacion-telefonica-para-oficina-central-y-puerto-de-acajutla/
CATEGORIES:Licitación Abierta
END:VEVENT
BEGIN:VEVENT
DTSTART;TZID=America/Chicago:20240108T080000
DTEND;TZID=America/Chicago:20240114T235500
DTSTAMP:20260421T205127
CREATED:20240108T200623Z
LAST-MODIFIED:20240108T200623Z
UID:11225-1704700800-1705276500@www.cepa.gob.sv
SUMMARY:CEPA LC 03-2024\,  “SERVICIO DE DESODORIZACIÓN PARA OFICINA CENTRAL\, PUERTO DE LA UNIÓN Y EL AEROPUERTO INTERNACIONAL DE EL SALVADOR\, SAN ÓSCAR ARNULFO ROMERO Y GALDÁMEZ”
DESCRIPTION:CEPA DSO LC 03-2024 PUBLICADO.doc
URL:https://www.cepa.gob.sv/event/cepa-lc-03-2024-servicio-de-desodorizacion-para-oficina-central-puerto-de-la-union-y-el-aeropuerto-internacional-de-el-salvador-san-oscar-arnulfo-romero-y-galdamez/
CATEGORIES:Licitación Abierta
END:VEVENT
BEGIN:VEVENT
DTSTART;TZID=America/Chicago:20240105T150000
DTEND;TZID=America/Chicago:20240115T164500
DTSTAMP:20260421T205127
CREATED:20240105T225052Z
LAST-MODIFIED:20240105T225052Z
UID:11222-1704466800-1705337100@www.cepa.gob.sv
SUMMARY:CEPA LC-05/2024 “SERVICIO DE MANTENIMIENTO PREVENTIVO Y CORRECTIVO PARA LOS VEHÍCULOS DE CEPA”
DESCRIPTION:DSO CEPA LC-05-2024 Mantenimiento de la flota vehicular de CEPA.doc
URL:https://www.cepa.gob.sv/event/cepa-lc-05-2024-servicio-de-mantenimiento-preventivo-y-correctivo-para-los-vehiculos-de-cepa/
CATEGORIES:Licitación Abierta
END:VEVENT
BEGIN:VEVENT
DTSTART;TZID=America/Chicago:20240104T080000
DTEND;TZID=America/Chicago:20240108T235500
DTSTAMP:20260421T205127
CREATED:20240105T141616Z
LAST-MODIFIED:20240105T141616Z
UID:11219-1704355200-1704758100@www.cepa.gob.sv
SUMMARY:CEPA SI 02/2024\, “SERVICIOS DE RETIRO\, TRANSPORTE Y DISPOSICIÓN FINAL DE LOS DESECHOS BIOINFECCIOSOS DE LA CLÍNICA MÉDICA EMPRESARIAL PUERTO DE ACAJUTLA”
DESCRIPTION:DSO SI 02-2024-DESECHOS BIOINFECCIOSOS COMPRASAL.docx \nDSO SI 02-2024 COMPRASAL.pdf
URL:https://www.cepa.gob.sv/event/cepa-si-02-2024-servicios-de-retiro-transporte-y-disposicion-final-de-los-desechos-bioinfecciosos-de-la-clinica-medica-empresarial-puerto-de-acajutla/
CATEGORIES:Licitación Abierta
END:VEVENT
BEGIN:VEVENT
DTSTART;TZID=America/Chicago:20231222T160000
DTEND;TZID=America/Chicago:20240111T235500
DTSTAMP:20260421T205127
CREATED:20240103T171757Z
LAST-MODIFIED:20240103T171757Z
UID:11214-1703260800-1705017300@www.cepa.gob.sv
SUMMARY:CEPA-CDP 156/2023 “SUMINISTRO DE ACCESORIOS Y MATERIALES DIVERSOS PARA USO DEL ÁREA DE PREVENCIÓN DE RIESGOS DEL PUERTO DE ACAJUTLA”
DESCRIPTION:DSO CDP 156 2023.pdf \nDSO CDP 156-2023.docx
URL:https://www.cepa.gob.sv/event/cepa-cdp-156-2023-suministro-de-accesorios-y-materiales-diversos-para-uso-del-area-de-prevencion-de-riesgos-del-puerto-de-acajutla/
CATEGORIES:Licitación Abierta
END:VEVENT
BEGIN:VEVENT
DTSTART;TZID=America/Chicago:20231222T160000
DTEND;TZID=America/Chicago:20240110T235500
DTSTAMP:20260421T205127
CREATED:20231222T224930Z
LAST-MODIFIED:20231222T224930Z
UID:11209-1703260800-1704930900@www.cepa.gob.sv
SUMMARY:CEPA CD-43/2023\, “SUMINISTRO Y CONFIGURACIÓN DE LICENCIAMIENTO DE GRABACIÓN DE VIDEO EN PLATAFORMA UNIFICADA DE SEGURIDAD GENETEC SECURITY CENTER”
DESCRIPTION:DSO CD 43 2023.pdf \nDSO CD 43-2023.docx
URL:https://www.cepa.gob.sv/event/cepa-cd-43-2023-suministro-y-configuracion-de-licenciamiento-de-grabacion-de-video-en-plataforma-unificada-de-seguridad-genetec-security-center/
CATEGORIES:Licitación Abierta
END:VEVENT
BEGIN:VEVENT
DTSTART;TZID=America/Chicago:20231222T120000
DTEND;TZID=America/Chicago:20240105T231100
DTSTAMP:20260421T205127
CREATED:20231222T192653Z
LAST-MODIFIED:20231222T192653Z
UID:11202-1703246400-1704496260@www.cepa.gob.sv
SUMMARY:CEPA-SI 04/2024 “SERVICIO DE MANTENIMIENTO DE UN EQUIPO DE RECARGA DE AUTOCONTENIDOS SCBA (CASCADA) MARCA MAKO\, DEL ÁREA DE SALVAMENTO Y EXTINCIÓN DE INCENDIOS DEL AEROPUERTO INTERNACIONAL DE EL SALVADOR\, SAN ÓSCAR ARNULFO ROMERO Y GALDÁMEZ”
DESCRIPTION:DSO SUBASTA INVERSA CEPA-SI 04-2023-MTTO CASCADA MAKO-AIES.pdf \nDSO SUBASTA INVERSA CEPA-SI 04-2023-MTTO CASCADA MAKO-AIES.docx
URL:https://www.cepa.gob.sv/event/cepa-si-04-2024-servicio-de-mantenimiento-de-un-equipo-de-recarga-de-autocontenidos-scba-cascada-marca-mako-del-area-de-salvamento-y-extincion-de-incendios-del-aeropuerto-internacional-de/
CATEGORIES:Licitación Abierta
END:VEVENT
BEGIN:VEVENT
DTSTART;TZID=America/Chicago:20231221T153000
DTEND;TZID=America/Chicago:20240109T164500
DTSTAMP:20260421T205127
CREATED:20231221T221103Z
LAST-MODIFIED:20231221T221103Z
UID:11194-1703172600-1704818700@www.cepa.gob.sv
SUMMARY:CEPA-CDP 158/2023 “SERVICIOS MÉDICOS POR EXÁMENES ESPECIALIZADOS PARA EL PUERTO DE ACAJUTLA”
DESCRIPTION:DSO CEPA-CDP 158-2023 COMPRASAL.docx \nDSO CEPA-CDP 158-2023 VERSION PDF COMPRASAL.pdf
URL:https://www.cepa.gob.sv/event/cepa-cdp-158-2023-servicios-medicos-por-examenes-especializados-para-el-puerto-de-acajutla/
CATEGORIES:Licitación Abierta
END:VEVENT
BEGIN:VEVENT
DTSTART;TZID=America/Chicago:20231221T080000
DTEND;TZID=America/Chicago:20240105T164500
DTSTAMP:20260421T205127
CREATED:20231222T141212Z
LAST-MODIFIED:20231222T141212Z
UID:11198-1703145600-1704473100@www.cepa.gob.sv
SUMMARY:CEPA-CDP 05/2024 “SERVICIO DE SOPORTE TÉCNICO FIREWALL\, CORREOS\, SITIOS WEB MWARE Y VEEAM\, PARA CEPA”
DESCRIPTION:  \nDSO CEPA-CDP 05-2024.pdf \nDSO CEPA-CDP 05-2024.docx
URL:https://www.cepa.gob.sv/event/cepa-cdp-05-2024-servicio-de-soporte-tecnico-firewall-correos-sitios-web-mware-y-veeam-para-cepa/
CATEGORIES:Licitación Abierta
END:VEVENT
BEGIN:VEVENT
DTSTART;TZID=America/Chicago:20231221T080000
DTEND;TZID=America/Chicago:20231222T164500
DTSTAMP:20260421T205127
CREATED:20231222T220347Z
LAST-MODIFIED:20231222T220347Z
UID:11205-1703145600-1703263500@www.cepa.gob.sv
SUMMARY:CEPA-CD 47/2023 “MANTENIMIENTO Y SOPORTE TÉCNICO ANUAL DE POWERSERVER WEB EDICIÓN WORKGROUP”
DESCRIPTION:DSO CEPA-CD 47-2023 MTTO. POWERSERVER.docx
URL:https://www.cepa.gob.sv/event/cepa-cd-47-2023-mantenimiento-y-soporte-tecnico-anual-de-powerserver-web-edicion-workgroup/
CATEGORIES:Licitación Abierta
END:VEVENT
BEGIN:VEVENT
DTSTART;TZID=America/Chicago:20231220T080000
DTEND;TZID=America/Chicago:20240102T235500
DTSTAMP:20260421T205127
CREATED:20231220T130521Z
LAST-MODIFIED:20231220T130521Z
UID:11172-1703059200-1704239700@www.cepa.gob.sv
SUMMARY:CDP 145/2023\, “SUMINISTRO DE REPUESTOS\, HERRAMIENTAS\, MAQUINARIAS Y EQUIPOS DE LIMPIEZA PARA EL AEROPUERTO INTERNACIONAL DE EL SALVADOR\, SAN ÓSCAR ARNULFO ROMERO Y GALDÁMEZ”
DESCRIPTION:CDP 145-2023 COMPRASAL \nDSO CDP-145-2023 COMPRASAL
URL:https://www.cepa.gob.sv/event/cdp-145-2023-suministro-de-repuestos-herramientas-maquinarias-y-equipos-de-limpieza-para-el-aeropuerto-internacional-de-el-salvador-san-oscar-arnulfo-romero-y-galdamez/
CATEGORIES:Licitación Abierta
END:VEVENT
BEGIN:VEVENT
DTSTART;TZID=America/Chicago:20231220T080000
DTEND;TZID=America/Chicago:20240102T170000
DTSTAMP:20260421T205127
CREATED:20231220T131239Z
LAST-MODIFIED:20231220T131239Z
UID:11177-1703059200-1704214800@www.cepa.gob.sv
SUMMARY:CDP-133/2023: “SERVICIO DE ANÁLISIS DE ACEITE\, PRUEBAS ELÉCTRICAS Y MANTENIMIENTO DE TRANSFORMADORES DE SUBESTACIONES ELÉCTRICAS DEL PUERTO DE ACAJUTLA”
DESCRIPTION:DSO CEPA CDP-133-2023 SERV ANALIS ACEITE PRUEB ELECT ACAJ \nDSO CEPA-CDP 133-2023 servicios análisis de aceites transporfa. Acajutla(WVF) \nPIP DEL PROCESO CEPA CDP-133-2023 \n  \n 
URL:https://www.cepa.gob.sv/event/cdp-133-2023-servicio-de-analisis-de-aceite-pruebas-electricas-y-mantenimiento-de-transformadores-de-subestaciones-electricas-del-puerto-de-acajutla/
CATEGORIES:Licitación Abierta
END:VEVENT
BEGIN:VEVENT
DTSTART;TZID=America/Chicago:20231219T164500
DTEND;TZID=America/Chicago:20240104T164500
DTSTAMP:20260421T205127
CREATED:20231220T142001Z
LAST-MODIFIED:20231220T142001Z
UID:11181-1703004300-1704386700@www.cepa.gob.sv
SUMMARY:CEPA-CDP 03/2024 “SERVICIO DE ARRENDAMIENTO DE DISPOSITIVOS Y MONITOREO POR GPS INCLUYENDO SUMINISTRO\, INSTALACIÓN Y CONFIGURACIÓN PARA VEHÍCULOS Y UNIDADES DE CEPA”
DESCRIPTION:DSO CDP 03-2024 SERVICIO DE GPS.docx \nDSO CEPA CDP 3-2024.pdf
URL:https://www.cepa.gob.sv/event/cepa-cdp-03-2024-servicio-de-arrendamiento-de-dispositivos-y-monitoreo-por-gps-incluyendo-suministro-instalacion-y-configuracion-para-vehiculos-y-unidades-de-cepa/
CATEGORIES:Licitación Abierta
END:VEVENT
END:VCALENDAR