BEGIN:VCALENDAR
VERSION:2.0
PRODID:-//Comisión Ejecutiva Portuaria Autónoma CEPA El Salvador - ECPv6.15.13//NONSGML v1.0//EN
CALSCALE:GREGORIAN
METHOD:PUBLISH
X-ORIGINAL-URL:https://www.cepa.gob.sv
X-WR-CALDESC:Eventos para Comisión Ejecutiva Portuaria Autónoma CEPA El Salvador
REFRESH-INTERVAL;VALUE=DURATION:PT1H
X-Robots-Tag:noindex
X-PUBLISHED-TTL:PT1H
BEGIN:VTIMEZONE
TZID:America/Chicago
BEGIN:DAYLIGHT
TZOFFSETFROM:-0600
TZOFFSETTO:-0500
TZNAME:CDT
DTSTART:20220313T080000
END:DAYLIGHT
BEGIN:STANDARD
TZOFFSETFROM:-0500
TZOFFSETTO:-0600
TZNAME:CST
DTSTART:20221106T070000
END:STANDARD
BEGIN:DAYLIGHT
TZOFFSETFROM:-0600
TZOFFSETTO:-0500
TZNAME:CDT
DTSTART:20230312T080000
END:DAYLIGHT
BEGIN:STANDARD
TZOFFSETFROM:-0500
TZOFFSETTO:-0600
TZNAME:CST
DTSTART:20231105T070000
END:STANDARD
BEGIN:DAYLIGHT
TZOFFSETFROM:-0600
TZOFFSETTO:-0500
TZNAME:CDT
DTSTART:20240310T080000
END:DAYLIGHT
BEGIN:STANDARD
TZOFFSETFROM:-0500
TZOFFSETTO:-0600
TZNAME:CST
DTSTART:20241103T070000
END:STANDARD
BEGIN:DAYLIGHT
TZOFFSETFROM:-0600
TZOFFSETTO:-0500
TZNAME:CDT
DTSTART:20250309T080000
END:DAYLIGHT
BEGIN:STANDARD
TZOFFSETFROM:-0500
TZOFFSETTO:-0600
TZNAME:CST
DTSTART:20251102T070000
END:STANDARD
END:VTIMEZONE
BEGIN:VEVENT
DTSTART;TZID=America/Chicago:20231128T080000
DTEND;TZID=America/Chicago:20231130T235500
DTSTAMP:20260422T034115
CREATED:20231129T135607Z
LAST-MODIFIED:20231129T135607Z
UID:11045-1701158400-1701388500@www.cepa.gob.sv
SUMMARY:CEPA CDP 147-2023\, “SUMINISTRO DE EQUIPO MULTI SMITH INTEGRADA\, RACK PARA MANCUERNAS Y SET DE MANCUERNAS DE 5 A 50 LIBRAS PARA EL GIMNASIO DE OFICINA CENTRAL”
DESCRIPTION:DSO CDP 147- 2023 EQUIPO DE GYM (COMPRASAL).docx
URL:https://www.cepa.gob.sv/event/cepa-cdp-147-2023-suministro-de-equipo-multi-smith-integrada-rack-para-mancuernas-y-set-de-mancuernas-de-5-a-50-libras-para-el-gimnasio-de-oficina-central/
CATEGORIES:Licitación Abierta
END:VEVENT
BEGIN:VEVENT
DTSTART;TZID=America/Chicago:20231127T080000
DTEND;TZID=America/Chicago:20231201T164500
DTSTAMP:20260422T034115
CREATED:20231128T140132Z
LAST-MODIFIED:20231128T140132Z
UID:11031-1701072000-1701449100@www.cepa.gob.sv
SUMMARY:CEPA-CDP 144/2023 “Suministro de Productos Agroquímicos para las empresas de CEPA”\, Segunda Convocatoria.
DESCRIPTION:DSO CEPA-CDP 144-2023.docx \nDSO CEPA-CDP 144-2923.pdf
URL:https://www.cepa.gob.sv/event/cepa-cdp-144-2023-suministro-de-productos-agroquimicos-para-las-empresas-de-cepa-segunda-convocatoria/
CATEGORIES:Licitación Abierta
END:VEVENT
BEGIN:VEVENT
DTSTART;TZID=America/Chicago:20231127T080000
DTEND;TZID=America/Chicago:20231128T150000
DTSTAMP:20260422T034115
CREATED:20231127T155743Z
LAST-MODIFIED:20231127T155743Z
UID:11017-1701072000-1701183600@www.cepa.gob.sv
SUMMARY:CEPA-CDP-154/2023 “SERVICIO DE ALIMENTACIÓN PARA GESTORES DE TRÁFICO DEL VICEMINISTERIO DE TRANSPORTE\, QUE APOYAN EN EL AEROPUERTO INTERNACIONAL DE EL SALVADOR\, SAN ÓSCAR ARNULFO ROMERO Y GALDÁMEZ”
DESCRIPTION:DSO CDP 154-2023.pdf \nDSO CDP 154-2023 – Alimentación.docx
URL:https://www.cepa.gob.sv/event/cepa-cdp-154-2023-servicio-de-alimentacion-para-gestores-de-trafico-del-viceministerio-de-transporte-que-apoyan-en-el-aeropuerto-internacional-de-el-salvador-san-oscar-arnulfo-romero-y-gald/
CATEGORIES:Licitación Abierta
END:VEVENT
BEGIN:VEVENT
DTSTART;TZID=America/Chicago:20231124T080000
DTEND;TZID=America/Chicago:20231204T164500
DTSTAMP:20260422T034115
CREATED:20231127T135545Z
LAST-MODIFIED:20231127T135545Z
UID:11013-1700812800-1701708300@www.cepa.gob.sv
SUMMARY:CEPA-CDP 140/2023 “SERVICIO DE MANTENIMIENTO PREVENTIVO Y CORRECTIVO PARA SISTEMAS CONTRA INCENDIOS PARA EL AEROPUERTO INTERNACIONAL DE EL SALVADOR\, SAN ÓSCAR ARNULFO ROMERO Y GALDÁMEZ”
DESCRIPTION:DSO CEPA-CDP 140-2023.docx \nDSO CEPA-CDP 140-2023.pdf
URL:https://www.cepa.gob.sv/event/cepa-cdp-140-2023-servicio-de-mantenimiento-preventivo-y-correctivo-para-sistemas-contra-incendios-para-el-aeropuerto-internacional-de-el-salvador-san-oscar-arnulfo-romero-y-galdamez/
CATEGORIES:Licitación Abierta
END:VEVENT
BEGIN:VEVENT
DTSTART;TZID=America/Chicago:20231123T163000
DTEND;TZID=America/Chicago:20231127T235500
DTSTAMP:20260422T034115
CREATED:20231124T135312Z
LAST-MODIFIED:20231124T135312Z
UID:11008-1700757000-1701129300@www.cepa.gob.sv
SUMMARY:CEPA-CDP 150/2023 “SERVICIO DE ANALISIS DE SUSTANCIAS PELIGROSAS EN LODOS RESIDUALES DE LAS PLANTAS DE TRATAMIENTO DEL PUERTO DE ACAJUTLA”
DESCRIPTION:CEPA- CDP 150-2023 ANALISIS DE SUSTANCIAS PELIGROSAS (COMPRASAL).docx \nINVITACION CEPA-CDP 150-2023.pdf
URL:https://www.cepa.gob.sv/event/cepa-cdp-150-2023-servicio-de-analisis-de-sustancias-peligrosas-en-lodos-residuales-de-las-plantas-de-tratamiento-del-puerto-de-acajutla/
CATEGORIES:Licitación Abierta
END:VEVENT
BEGIN:VEVENT
DTSTART;TZID=America/Chicago:20231122T140000
DTEND;TZID=America/Chicago:20231123T235500
DTSTAMP:20260422T034115
CREATED:20231122T204452Z
LAST-MODIFIED:20231122T204452Z
UID:11003-1700661600-1700783700@www.cepa.gob.sv
SUMMARY:CEPA-CDP 146/2023 “SERVICIO DE TAXIS PARA PERSONAL DE OFICINA CENTRAL Y DEL AEROPUERTO INTERNACIONAL DE EL SALVADOR\, SAN ÓSCAR ARNULFO ROMERO Y GALDÁMEZ”
DESCRIPTION:DSO CEPA- CDP 146-2023 (COMPRASAL).docx \nDSO CEPA- CDP 146-2023.pdf
URL:https://www.cepa.gob.sv/event/cepa-cdp-146-2023-servicio-de-taxis-para-personal-de-oficina-central-y-del-aeropuerto-internacional-de-el-salvador-san-oscar-arnulfo-romero-y-galdamez/
CATEGORIES:Licitación Abierta
END:VEVENT
BEGIN:VEVENT
DTSTART;TZID=America/Chicago:20231122T080000
DTEND;TZID=America/Chicago:20231128T164500
DTSTAMP:20260422T034115
CREATED:20231122T192807Z
LAST-MODIFIED:20231122T192807Z
UID:10999-1700640000-1701189900@www.cepa.gob.sv
SUMMARY:CEPA-CDP 139/2023 “SERVICIO DE MANTENIMIENTO PARA LA PLANTA DE TRATAMIENTO DE AGUAS RESIDUALES (PTAR B)\, DEL AEROPUERTO INTERNACIONAL DE EL SALVADOR\, SAN ÓSCAR ARNULFO ROMERO Y GALDÁMEZ”
DESCRIPTION:DOCUMENTO DE SOLICITUD DE OFERTA CEPA-CDP 139-2023.docx \nDOCUMENTO DE SOLICITUD DE OFERTA CEPA-CDP 139-2023.pdf
URL:https://www.cepa.gob.sv/event/cepa-cdp-139-2023-servicio-de-mantenimiento-para-la-planta-de-tratamiento-de-aguas-residuales-ptar-b-del-aeropuerto-internacional-de-el-salvador-san-oscar-arnulfo-romero-y-galdamez/
CATEGORIES:Licitación Abierta
END:VEVENT
BEGIN:VEVENT
DTSTART;TZID=America/Chicago:20231121T140000
DTEND;TZID=America/Chicago:20240122T164500
DTSTAMP:20260422T034115
CREATED:20231122T135651Z
LAST-MODIFIED:20231122T135651Z
UID:10984-1700575200-1705941900@www.cepa.gob.sv
SUMMARY:CEPA-LC30/2023 “APLICACIÓN DE SELLADOR ASFÁLTICO EN CALLE DE RODAJE ALFA DEL AEROPUERTO INTERNACIONAL DE EL SALVADOR\, SAN ÓSCAR ARNULFO ROMERO Y GALDÁMEZ”
DESCRIPTION:DSO LC-30-2023 SELLADOR CALLE RODAJE AIES.docx \nDSO LC-30-2023 SELLADOR CALLE RODAJE AIES.pdf \nPIP CEPA LC-30-2023 SELLADOR CALLE RODAJE AIES.pdf
URL:https://www.cepa.gob.sv/event/cepa-lc30-2023-aplicacion-de-sellador-asfaltico-en-calle-de-rodaje-alfa-del-aeropuerto-internacional-de-el-salvador-san-oscar-arnulfo-romero-y-galdamez/
CATEGORIES:Licitación Abierta
END:VEVENT
BEGIN:VEVENT
DTSTART;TZID=America/Chicago:20231121T080000
DTEND;TZID=America/Chicago:20231130T164500
DTSTAMP:20260422T034115
CREATED:20231121T224759Z
LAST-MODIFIED:20231122T163309Z
UID:10976-1700553600-1701362700@www.cepa.gob.sv
SUMMARY:CEPA-LC 01/2024 “SERVICIO DE SEGURIDAD PARA EL ESTACIONAMIENTO PÚBLICO DE LA TERMINAL DE PASAJEROS Y TERMINAL DE CARGA DEL AEROPUERTO INTERNACIONAL DE EL SALVADOR\, SAN OSCAR ARNULFO ROMERO Y GALDAMEZ”
DESCRIPTION:DSO CEPA LC-01-2024 Servicio de Seguridad AIES.doc \nDSO CEPA LC-01-2024 Servicio de Seguridad AIES.pdf
URL:https://www.cepa.gob.sv/event/cepa-lc-01-2024-servicio-de-seguridad-para-el-estacionamiento-publico-de-la-terminal-de-pasajeros-y-terminal-de-carga-del-aeropuerto-internacional-de-el-salvador-san-oscar-arnulfo-romero-y-g/
CATEGORIES:Licitación Abierta
END:VEVENT
BEGIN:VEVENT
DTSTART;TZID=America/Chicago:20231121T080000
DTEND;TZID=America/Chicago:20231121T235500
DTSTAMP:20260422T034115
CREATED:20231121T225106Z
LAST-MODIFIED:20231121T225106Z
UID:10979-1700553600-1700610900@www.cepa.gob.sv
SUMMARY:CEPA CD 41-2023\, “Contratación del suministro e instalación de estaciones de pago para el estacionamiento de vehículos del Aeropuerto Internacional de El Salvador\, San Óscar Arnulfo Romero y Galdámez”
DESCRIPTION:DSO CD-41-2023 ESTACIONES DE PAGO (COMPRASAL).docx
URL:https://www.cepa.gob.sv/event/cepa-cd-41-2023-contratacion-del-suministro-e-instalacion-de-estaciones-de-pago-para-el-estacionamiento-de-vehiculos-del-aeropuerto-internacional-de-el-salvador-san-oscar-arnulfo-romero-y-g/
CATEGORIES:Licitación Abierta
END:VEVENT
BEGIN:VEVENT
DTSTART;TZID=America/Chicago:20231120T080000
DTEND;TZID=America/Chicago:20231129T164500
DTSTAMP:20260422T034115
CREATED:20231120T181310Z
LAST-MODIFIED:20231120T181310Z
UID:10972-1700467200-1701276300@www.cepa.gob.sv
SUMMARY:CEPA CDP-131/2023 “SUMINISTRO DE EQUIPOS DE MEDICIÓN Y ANÁLISIS DE CALIDAD DE ENERGÍA ELÉCTRICA PARA EL AEROPUERTO INTERNACIONAL DE EL SALVADOR\, SAN ÓSCAR ARNULFO ROMERO Y GALDÁMEZ”
DESCRIPTION:DSO CEPA CDP-131-2023 Equipos Medicion Analisis energia.docx \nDSO CEPA CDP-131-2023 Equipos Medicion Analisis energia.pdf
URL:https://www.cepa.gob.sv/event/cepa-cdp-131-2023-suministro-de-equipos-de-medicion-y-analisis-de-calidad-de-energia-electrica-para-el-aeropuerto-internacional-de-el-salvador-san-oscar-arnulfo-romero-y-galdamez/
CATEGORIES:Licitación Abierta
END:VEVENT
BEGIN:VEVENT
DTSTART;TZID=America/Chicago:20231117T080000
DTEND;TZID=America/Chicago:20240117T164500
DTSTAMP:20260422T034115
CREATED:20231120T161931Z
LAST-MODIFIED:20231120T162742Z
UID:10966-1700208000-1705509900@www.cepa.gob.sv
SUMMARY:CEPA CDP-134/2023 “SUMINISTRO DE UN SISTEMA SINCRONIZADO DE PROTECCIONES ELÉCTRICAS CONTRA SOBRETENSIONES TRANSITORIAS Y EL SUMINISTRO\, INSTALACIÓN Y PUESTA EN SERVICIO DE UN UPS TRIFÁSICO DE 15KW\, PARA LOS EQUIPOS DE ALMACENAMIENTO DEL SISTEMA CCTV UBICADOS EN EL CENTRO DE OPERACIONES DE SEGURIDAD (COS)\, DEL PUERTO DE ACAJUTLA”
DESCRIPTION:DSO CEPA CDP-134-2023 SIST. SUPRESOR SOBRETENSIONES ACAJUTLA.docx \nDSO CEPA CDP134-2023 SIST-SUPRESOR SOBRETENSIONES.pdf \nPLAN DE IMPLEMENTACIÓN CEPA CDP-134-2023pdf
URL:https://www.cepa.gob.sv/event/cepa-lc-20-2023-suministro-y-puesta-en-servicio-de-dos-acometidas-electricas-a-2400-voltios-desde-el-muelle-b-hasta-el-muelle-a-y-desde-el-secundario-de-los-transformadores-de-potencia-has/
CATEGORIES:Licitación Abierta
END:VEVENT
BEGIN:VEVENT
DTSTART;TZID=America/Chicago:20231117T080000
DTEND;TZID=America/Chicago:20231122T235500
DTSTAMP:20260422T034115
CREATED:20231117T135643Z
LAST-MODIFIED:20231117T135643Z
UID:10960-1700208000-1700697300@www.cepa.gob.sv
SUMMARY:CEPA CDP 148-2023\, SUMINISTRO DE MATERIALES PARA LA REPARACIÓN DE LAS DEFENSAS DEL MUELLE “B” DEL PUERTO DE ACAJUTLA”
DESCRIPTION:DSO CDP 148-2023 MAT. DEFENSAS COMPRASAL.docx \n 
URL:https://www.cepa.gob.sv/event/cepa-cdp-148-2023-suministro-de-materiales-para-la-reparacion-de-las-defensas-del-muelle-b-del-puerto-de-acajutla/
CATEGORIES:Licitación Abierta
END:VEVENT
BEGIN:VEVENT
DTSTART;TZID=America/Chicago:20231115T140000
DTEND;TZID=America/Chicago:20231123T164500
DTSTAMP:20260422T034115
CREATED:20231115T201549Z
LAST-MODIFIED:20231115T201549Z
UID:10957-1700056800-1700757900@www.cepa.gob.sv
SUMMARY:CEPA-CDP 124/2023 “SUMINISTRO DE EQUIPOS E IMPLEMENTOS DE TOPOGRAFÍA PARA EL AEROPUERTO INTERNACIONAL DE EL SALVADOR SAN ÓSCAR ARNULFO ROMERO Y GALDÁMEZ”
DESCRIPTION:CEPA- CDP-124-2023 SUMINISTRO TOPOGRAFICOS COMPRASAL.docx \nDSO CEPA-CDP 124-2023 PDF.pdf
URL:https://www.cepa.gob.sv/event/cepa-cdp-124-2023-suministro-de-equipos-e-implementos-de-topografia-para-el-aeropuerto-internacional-de-el-salvador-san-oscar-arnulfo-romero-y-galdamez/
CATEGORIES:Licitación Abierta
END:VEVENT
BEGIN:VEVENT
DTSTART;TZID=America/Chicago:20231115T100000
DTEND;TZID=America/Chicago:20231120T235500
DTSTAMP:20260422T034115
CREATED:20231115T172823Z
LAST-MODIFIED:20231115T172823Z
UID:10948-1700042400-1700524500@www.cepa.gob.sv
SUMMARY:CEPA-CDP 137/2023 “SERVICIO DE MANTENIMIENTO DE UN EQUIPO DE RECARGA DE AUTOCONTENIDOS SCBA -CASCADA- MARCA MAKO DEL ÁREA DE SALVAMENTO Y EXTINCIÓN DE INCENDIOS DEL AEROPUERTO INTERNACIONAL DE EL SALVADOR SAN ÓSCAR ARNULFO ROMERO Y GALDÁMEZ\, POR SEGUNDA VEZ”
DESCRIPTION:DSO CEPA-CDP 137-2023 MTTO CASCADA MAKO-2DA VEZ-AIES-comprasal.docx \nDSO CEPA-CDP 137-2023 MTTO CASCADA MAKO-2DA VEZ-AIES-comprasal.pdf
URL:https://www.cepa.gob.sv/event/cepa-cdp-137-2023-servicio-de-mantenimiento-de-un-equipo-de-recarga-de-autocontenidos-scba-cascada-marca-mako-del-area-de-salvamento-y-extincion-de-incendios-del-aeropuerto-internacional-de/
CATEGORIES:Licitación Abierta
END:VEVENT
BEGIN:VEVENT
DTSTART;TZID=America/Chicago:20231115T080000
DTEND;TZID=America/Chicago:20231129T165500
DTSTAMP:20260422T034115
CREATED:20231115T201241Z
LAST-MODIFIED:20231115T201709Z
UID:10953-1700035200-1701276900@www.cepa.gob.sv
SUMMARY:CEPA-CD-01/2024\, “SERVICIOS DE SOPORTE TÉCNICO Y MANTENIMIENTO PREVENTIVO DEL SISTEMA Y EQUIPOS DEL ESTACIONAMIENTO DEL AEROPUERTO INTERNACIONAL DE EL SALVADOR\, SAN ÓSCAR ARNULFO ROMERO Y GALDÁMEZ”
DESCRIPTION:DSO CEPA CD 01-2024.docx \nDSO CEPA CD 01-2024.pdf
URL:https://www.cepa.gob.sv/event/cepa-cd-01-2024-servicios-de-soporte-tecnico-y-mantenimiento-preventivo-del-sistema-y-equipos-del-estacionamiento-del-aeropuerto-internacional-de-el-salvador-san-oscar-arnulfo-romero-y-gald/
CATEGORIES:Licitación Abierta
END:VEVENT
BEGIN:VEVENT
DTSTART;TZID=America/Chicago:20231114T090000
DTEND;TZID=America/Chicago:20240124T164500
DTSTAMP:20260422T034115
CREATED:20231114T225830Z
LAST-MODIFIED:20231114T225830Z
UID:10939-1699952400-1706114700@www.cepa.gob.sv
SUMMARY:CEPA LC-02/2024 “SERVICIO DE ALIMENTACIÓN PARA EL PERSONAL DE TROPA DEL MINISTERIO DE LA DEFENSA NACIONAL\, QUE BRINDA APOYO A LA SEGURIDAD DEL PUERTO DE ACAJUTLA\, AEROPUERTO INTERNACIONAL DE EL SALVADOR\, SAN ÓSCAR ARNULFO ROMERO Y GALDÁMEZ Y ATENCIONES VARIAS DEL AEROPUERTO”
DESCRIPTION:DSO LC-02-2023 ALIMENTACIÓN PARA EL PERSONAL DE TROPA.docx \nDSO LC-02-2023 ALIMENTACIÓN PARA EL PERSONAL DE TROPA.pdf \nPLAN DE IMPLEMENTACIÓN CEPA LC-02-2023 ALIMENTACIÓN PARA EL PERSONAL DE TROPA.pdf
URL:https://www.cepa.gob.sv/event/cepa-lc-02-2024-servicio-de-alimentacion-para-el-personal-de-tropa-del-ministerio-de-la-defensa-nacional-que-brinda-apoyo-a-la-seguridad-del-puerto-de-acajutla-aeropuerto-internacional-de-e/
CATEGORIES:Licitación Abierta
END:VEVENT
BEGIN:VEVENT
DTSTART;TZID=America/Chicago:20231114T080000
DTEND;TZID=America/Chicago:20231123T235500
DTSTAMP:20260422T034115
CREATED:20231114T212233Z
LAST-MODIFIED:20231114T212233Z
UID:10934-1699948800-1700783700@www.cepa.gob.sv
SUMMARY:CEPA CDP 135/2023 “SUMINISTRO E INSTALACIÓN DE SEÑALIZACIÓN PARA EL PUERTO DE ACAJUTLA\, PUERTO DE LA UNIÓN Y AEROPUERTO INTERNACIONAL DE EL SALVADOR\, SAN ÓSCAR ARNULFO ROMERO Y GALDÁMEZ”
DESCRIPTION:DSO 135-2023 publicado.pdf \nDSO Señalizacion publicado.docx
URL:https://www.cepa.gob.sv/event/cepa-cdp-135-2023-suministro-e-instalacion-de-senalizacion-para-el-puerto-de-acajutla-puerto-de-la-union-y-aeropuerto-internacional-de-el-salvador-san-oscar-arnulfo-romero-y-galdamez/
CATEGORIES:Licitación Abierta
END:VEVENT
BEGIN:VEVENT
DTSTART;TZID=America/Chicago:20231114T080000
DTEND;TZID=America/Chicago:20231121T164500
DTSTAMP:20260422T034115
CREATED:20231114T181940Z
LAST-MODIFIED:20231114T181940Z
UID:10930-1699948800-1700585100@www.cepa.gob.sv
SUMMARY:CEPA LC 04/2024 “SERVICIO DE TELEFONÍA FIJA Y MÓVIL PARA LAS EMPRESAS DE CEPA”
DESCRIPTION:DSO CEPA LC 04-2024 Servicio de telefonía fija y móvil para las empresas de CEPA .docx
URL:https://www.cepa.gob.sv/event/cepa-lc-04-2024-servicio-de-telefonia-fija-y-movil-para-las-empresas-de-cepa/
CATEGORIES:Licitación Abierta
END:VEVENT
BEGIN:VEVENT
DTSTART;TZID=America/Chicago:20231113T180000
DTEND;TZID=America/Chicago:20231119T180000
DTSTAMP:20260422T034115
CREATED:20231114T001705Z
LAST-MODIFIED:20231114T001705Z
UID:10927-1699898400-1700416800@www.cepa.gob.sv
SUMMARY:CDP 130/2023 “SUMINISTRO DE MATERIALES DIVERSOS PARA EL FORTALECIMIENTO DE ALUMBRADO EN LOS PATIOS DEL PUERTO DE ACAJUTLA”.
DESCRIPTION:DSO CEPA-CDP 130-2023 Suministro alumbrado de patios Acajutla
URL:https://www.cepa.gob.sv/event/cdp-130-2023-suministro-de-materiales-diversos-para-el-fortalecimiento-de-alumbrado-en-los-patios-del-puerto-de-acajutla/
CATEGORIES:Licitación Abierta
END:VEVENT
BEGIN:VEVENT
DTSTART;TZID=America/Chicago:20231110T080000
DTEND;TZID=America/Chicago:20231117T164500
DTSTAMP:20260422T034115
CREATED:20231113T132616Z
LAST-MODIFIED:20231113T132616Z
UID:10924-1699603200-1700239500@www.cepa.gob.sv
SUMMARY:CEPA-CDP 132/2023 “SERVICIO DE RENOVACIÓN DE LICENCIAMIENTO DE SOFTWARE PARA EL PUERTO DE ACAJUTLA”
DESCRIPTION:DSO CEPA-CDP 132-2023 Licencias Puerto de Acajutla.docx \n 
URL:https://www.cepa.gob.sv/event/cepa-cdp-132-2023-servicio-de-renovacion-de-licenciamiento-de-software-para-el-puerto-de-acajutla/
CATEGORIES:Licitación Abierta
END:VEVENT
BEGIN:VEVENT
DTSTART;TZID=America/Chicago:20231110T080000
DTEND;TZID=America/Chicago:20231115T235500
DTSTAMP:20260422T034115
CREATED:20231110T234915Z
LAST-MODIFIED:20231110T234915Z
UID:10921-1699603200-1700092500@www.cepa.gob.sv
SUMMARY:CD 36-2023\, “SERVICIO DE MANTENIMIENTO Y REPARACIÓN DE 3 FREGADORAS DE PISO Y UNA ASPIRADORA CON HOMBRE A BORDO MARCA KARCHER DEL AEROPUERTO INTERNACIONAL DE EL SALVADOR\, SAN ÓSCAR ARNULFO ROMERO Y GALDÁMEZ”
DESCRIPTION:DSO CEPA CD 36 -2023 Mtto. de equipos de limpiez COMPRASAL \nDSO CEPA CD 36-2023 COMPRASAL \n  \n  \n 
URL:https://www.cepa.gob.sv/event/cd-36-2023-servicio-de-mantenimiento-y-reparacion-de-3-fregadoras-de-piso-y-una-aspiradora-con-hombre-a-bordo-marca-karcher-del-aeropuerto-internacional-de-el-salvador-san-oscar-arnulfo-rom/
CATEGORIES:Licitación Abierta
END:VEVENT
BEGIN:VEVENT
DTSTART;TZID=America/Chicago:20231110T080000
DTEND;TZID=America/Chicago:20231114T164500
DTSTAMP:20260422T034115
CREATED:20231110T234502Z
LAST-MODIFIED:20231114T211225Z
UID:10916-1699603200-1699980300@www.cepa.gob.sv
SUMMARY:CDP 136/2023 “SUMINISTRO DE ELECTRODOMÉSTICOS PARA EL ÁREA VIP COMO PARTE DEL EQUIPAMIENTO DEL PROYECTO DE AMPLIACIÓN DE LA TERMINAL DE PASAJEROS DEL AEROPUERTO INTERNACIONAL DE ILOPANGO”
DESCRIPTION:DSO CEPA-CDP 123-2023 COMPRASAL \nDSO CEPA-CDP 123-2023 PDF \n 
URL:https://www.cepa.gob.sv/event/cdp-136-2023-suministro-de-electrodomesticos-para-el-area-vip-como-parte-del-equipamiento-del-proyecto-de-ampliacion-de-la-terminal-de-pasajeros-del-aeropuerto-internacional-de-ilopango/
CATEGORIES:Licitación Abierta
END:VEVENT
BEGIN:VEVENT
DTSTART;TZID=America/Chicago:20231109T141500
DTEND;TZID=America/Chicago:20231114T235500
DTSTAMP:20260422T034115
CREATED:20231109T203318Z
LAST-MODIFIED:20231109T203318Z
UID:10908-1699539300-1700006100@www.cepa.gob.sv
SUMMARY:CEPA-CDP 138/2023 “SUMINISTRO DE DISPOSITIVOS DE CONTROL DE ACCESO PARA PUENTES DE ABORDAJE Y SALAS DE LA 1 A LA 14 DEL AEROPUERTO INTERNACIONAL DE EL SALVADOR\, SAN ÓSCAR ARNULFO ROMERO Y GALDÁMEZ”
DESCRIPTION:DSO CEPA-CDP 138-2023-DISPOSITIVOS CONTROL DE ACCESO-AIES-comprasal.docx \nDSO CEPA-CDP 138-2023-DISPOSITIVOS CONTROL DE ACCESO-AIES-comprasal.pdf
URL:https://www.cepa.gob.sv/event/cepa-cdp-138-2023-suministro-de-dispositivos-de-control-de-acceso-para-puentes-de-abordaje-y-salas-de-la-1-a-la-14-del-aeropuerto-internacional-de-el-salvador-san-oscar-arnulfo-romero-y-gald/
CATEGORIES:Licitación Abierta
END:VEVENT
BEGIN:VEVENT
DTSTART;TZID=America/Chicago:20231109T080000
DTEND;TZID=America/Chicago:20231116T235500
DTSTAMP:20260422T034115
CREATED:20231109T215730Z
LAST-MODIFIED:20231109T215730Z
UID:10911-1699516800-1700178900@www.cepa.gob.sv
SUMMARY:CEPA CDP 113-2023\, “SERVICIO DE FABRICACIÓN E INSTALACIÓN DE 2 RODILLOS Y SUMINISTRO E INSTALACION DE 3 FAJAS PARA LAS BANDAS TRANSPORTADORAS DE EQUIPAJE DEL AEROPUERTO INTERNACIONAL DE EL SALVADOR\, SAN OSCAR ARNULFO ROMERO Y GALDÁMEZ”
DESCRIPTION:DSO CDP 113- 2023 FABRI E INSTAL RODILLO Y BANDAS COMPRASAL.docx
URL:https://www.cepa.gob.sv/event/cepa-cdp-113-2023-servicio-de-fabricacion-e-instalacion-de-2-rodillos-y-suministro-e-instalacion-de-3-fajas-para-las-bandas-transportadoras-de-equipaje-del-aeropuerto-internacional-de-el-sal/
CATEGORIES:Licitación Abierta
END:VEVENT
BEGIN:VEVENT
DTSTART;TZID=America/Chicago:20231108T080000
DTEND;TZID=America/Chicago:20231120T235500
DTSTAMP:20260422T034115
CREATED:20231107T230353Z
LAST-MODIFIED:20231108T205604Z
UID:10899-1699430400-1700524500@www.cepa.gob.sv
SUMMARY:CEPA LC 29-2023\, “Suministro e instalación de medidores de caudal magnéticos para 4 plantas de tratamiento de aguas residuales en el Puerto de Acajutla”
DESCRIPTION:DSO CEPA LC-29-2023 medidores de caudal PAcajutla COMPRASAL.doc
URL:https://www.cepa.gob.sv/event/cepa-lc-29-2023-suministro-e-instalacion-de-medidores-de-caudal-magneticos-para-4-plantas-de-tratamiento-de-aguas-residuales-en-el-puerto-de-acajutla/
CATEGORIES:Licitación Abierta
END:VEVENT
BEGIN:VEVENT
DTSTART;TZID=America/Chicago:20231108T080000
DTEND;TZID=America/Chicago:20231113T170000
DTSTAMP:20260422T034115
CREATED:20231109T140747Z
LAST-MODIFIED:20231109T140747Z
UID:10904-1699430400-1699894800@www.cepa.gob.sv
SUMMARY:CEPA-CDP 127/2023 “SUMINISTRO DE MEDIDOR DE TURBIDEZ Y SUMINISTRO E INSTALACIÓN DE MEDIDOR DE CAUDAL\, PARA EL PUERTO DE LA UNIÓN”
DESCRIPTION:DOCUMENTO DE SOLICITUD DE OFERTA CEPA-CDP 127-023.docx \nDOCUMENTO DE SOLICITUD DE OFERTA CEPA-CDP 127-2023.pdf
URL:https://www.cepa.gob.sv/event/cepa-cdp-127-2023-suministro-de-medidor-de-turbidez-y-suministro-e-instalacion-de-medidor-de-caudal-para-el-puerto-de-la-union/
CATEGORIES:Licitación Abierta
END:VEVENT
BEGIN:VEVENT
DTSTART;TZID=America/Chicago:20231107T080000
DTEND;TZID=America/Chicago:20240116T164500
DTSTAMP:20260422T034115
CREATED:20231107T223242Z
LAST-MODIFIED:20231107T223242Z
UID:10892-1699344000-1705423500@www.cepa.gob.sv
SUMMARY:CEPA CDP-111/2023 “SUMINISTRO DE SEIS BALSAS SALVAVIDAS PARA LOS REMOLCADORES ACAJUTLA\, IZALCO Y CUSCATLÁN\, DEL PUERTO DE ACAJUTLA”
DESCRIPTION:DSO CEPA 111-2023 BALSAS ACAJUTLA.docx \nDSO CEPA 111-2023 SEIS BALSAS SALVAVIDAD PARA ACAJUTLA.pdf \nPLAN DE IMPLEMENTACIÓN PUBLICADO EN COMPRASAL.pdf
URL:https://www.cepa.gob.sv/event/cepa-cdp-111-2023-suministro-de-seis-balsas-salvavidas-para-los-remolcadores-acajutla-izalco-y-cuscatlan-del-puerto-de-acajutla/
CATEGORIES:Licitación Abierta
END:VEVENT
BEGIN:VEVENT
DTSTART;TZID=America/Chicago:20231107T080000
DTEND;TZID=America/Chicago:20231116T164500
DTSTAMP:20260422T034115
CREATED:20231107T225102Z
LAST-MODIFIED:20231107T225102Z
UID:10896-1699344000-1700153100@www.cepa.gob.sv
SUMMARY:CEPA-CDP 123/2023 “SUMINISTRO DE UNIFORMES HOSPITALARIOS PARA EL PERSONAL DE LAS CLÍNICAS DE CEPA”
DESCRIPTION:DSO CEPA-CDP 123-2023 COMPRASAL.docx \nDSO CEPA-CDP 123-2023 PDF.pdf
URL:https://www.cepa.gob.sv/event/cepa-cdp-123-2023-suministro-de-uniformes-hospitalarios-para-el-personal-de-las-clinicas-de-cepa/
CATEGORIES:Licitación Abierta
END:VEVENT
BEGIN:VEVENT
DTSTART;TZID=America/Chicago:20231107T080000
DTEND;TZID=America/Chicago:20231112T235500
DTSTAMP:20260422T034115
CREATED:20231107T164355Z
LAST-MODIFIED:20231107T164355Z
UID:10887-1699344000-1699833300@www.cepa.gob.sv
SUMMARY:CEPA CDP 105-2023\, “SERVICIO DE LIMPIEZA Y DESINFECCIÓN DE TANQUES Y CISTERNAS DE ALMACENAMIENTO DE AGUA POTABLE PARA EL AEROPUERTO INTERNACIONAL DE EL SALVADOR\, SAN ÓSCAR ARNULFO ROMERO Y GALDÁMEZ”
DESCRIPTION:DSO CDP 105-2023 LIMPIEZA Y DESINFECCIÓN DE TANQUE Y CISTERNA-COMPRASAL.docx
URL:https://www.cepa.gob.sv/event/cepa-cdp-105-2023-servicio-de-limpieza-y-desinfeccion-de-tanques-y-cisternas-de-almacenamiento-de-agua-potable-para-el-aeropuerto-internacional-de-el-salvador-san-oscar-arnulfo-romero-y-gal/
CATEGORIES:Licitación Abierta
END:VEVENT
END:VCALENDAR