BEGIN:VCALENDAR
VERSION:2.0
PRODID:-//Comisión Ejecutiva Portuaria Autónoma CEPA El Salvador - ECPv6.15.13//NONSGML v1.0//EN
CALSCALE:GREGORIAN
METHOD:PUBLISH
X-ORIGINAL-URL:https://www.cepa.gob.sv
X-WR-CALDESC:Eventos para Comisión Ejecutiva Portuaria Autónoma CEPA El Salvador
REFRESH-INTERVAL;VALUE=DURATION:PT1H
X-Robots-Tag:noindex
X-PUBLISHED-TTL:PT1H
BEGIN:VTIMEZONE
TZID:America/Chicago
BEGIN:DAYLIGHT
TZOFFSETFROM:-0600
TZOFFSETTO:-0500
TZNAME:CDT
DTSTART:20220313T080000
END:DAYLIGHT
BEGIN:STANDARD
TZOFFSETFROM:-0500
TZOFFSETTO:-0600
TZNAME:CST
DTSTART:20221106T070000
END:STANDARD
BEGIN:DAYLIGHT
TZOFFSETFROM:-0600
TZOFFSETTO:-0500
TZNAME:CDT
DTSTART:20230312T080000
END:DAYLIGHT
BEGIN:STANDARD
TZOFFSETFROM:-0500
TZOFFSETTO:-0600
TZNAME:CST
DTSTART:20231105T070000
END:STANDARD
BEGIN:DAYLIGHT
TZOFFSETFROM:-0600
TZOFFSETTO:-0500
TZNAME:CDT
DTSTART:20240310T080000
END:DAYLIGHT
BEGIN:STANDARD
TZOFFSETFROM:-0500
TZOFFSETTO:-0600
TZNAME:CST
DTSTART:20241103T070000
END:STANDARD
BEGIN:DAYLIGHT
TZOFFSETFROM:-0600
TZOFFSETTO:-0500
TZNAME:CDT
DTSTART:20250309T080000
END:DAYLIGHT
BEGIN:STANDARD
TZOFFSETFROM:-0500
TZOFFSETTO:-0600
TZNAME:CST
DTSTART:20251102T070000
END:STANDARD
END:VTIMEZONE
BEGIN:VEVENT
DTSTART;TZID=America/Chicago:20231027T080000
DTEND;TZID=America/Chicago:20231106T164500
DTSTAMP:20260424T060716
CREATED:20231030T134711Z
LAST-MODIFIED:20231030T134711Z
UID:10815-1698393600-1699289100@www.cepa.gob.sv
SUMMARY:CEPA-CDP 121/2023 “SERVICIO DE MANTENIMIENTO PREVENTIVO Y CORRECTIVO PARA EL SISTEMA DE ARRANQUE DE LAS BOMBAS CONTRA INCENDIO DE LOS MUELLES A\, B Y C DEL PUERTO DE ACAJUTLA” SEGUNDA CONVOCATORIA”
DESCRIPTION:DOCUMENTO DE SOLICITUD DE OFERTA CEPA-CDP 121-2023.docx \nDOCUMENTO DE SOLICITUD DE OFERTA CEPA-CDP 121-2023.pdf
URL:https://www.cepa.gob.sv/event/cepa-cdp-121-2023-servicio-de-mantenimiento-preventivo-y-correctivo-para-el-sistema-de-arranque-de-las-bombas-contra-incendio-de-los-muelles-a-b-y-c-del-puerto-de-acajutla-segunda-c/
CATEGORIES:Licitación Abierta
END:VEVENT
BEGIN:VEVENT
DTSTART;TZID=America/Chicago:20231026T080000
DTEND;TZID=America/Chicago:20231119T233000
DTSTAMP:20260424T060716
CREATED:20231026T234959Z
LAST-MODIFIED:20241118T142859Z
UID:10810-1698307200-1700436600@www.cepa.gob.sv
SUMMARY:CDP 125/2023 “SUMINISTRO DE TERMOS PARA PERSONAL DE MANTENIMIENTO DEL AEROPUERTO INTERNACIONAL DE EL SALVADOR\, SAN ÓSCAR ARNULFO ROMERO Y GALDÁMEZ”
DESCRIPTION:DSO CEPA- CDP 125-2023 VERSION PDF \nDSO CEPA- CDP 125-2023 COMPRASAL
URL:https://www.cepa.gob.sv/event/cdp-125-2023-suministro-de-termos-para-personal-de-mantenimiento-del-aeropuerto-internacional-de-el-salvador-san-oscar-arnulfo-romero-y-galdamez/
CATEGORIES:Licitación Abierta
END:VEVENT
BEGIN:VEVENT
DTSTART;TZID=America/Chicago:20231025T080000
DTEND;TZID=America/Chicago:20231026T235500
DTSTAMP:20260424T060716
CREATED:20231025T192810Z
LAST-MODIFIED:20231025T195046Z
UID:10799-1698220800-1698364500@www.cepa.gob.sv
SUMMARY:CEPA-CD 37/2023 “SUMINISTRO E INSTALACIÓN DE CINTAS PARA POSTES CORTA FLUJO\, PARA EL AEROPUERTO INTERNACIONAL DE EL SALVADOR\, SAN ÓSCAR ARNULFO ROMERO Y GALDÁMEZ”
DESCRIPTION:DSO CEPA-CD 37-2023 CINTAS PARA POSTES CORTA FLUJO-AIES-comprasal.docx \nDSO CEPA-CD 37-2023 CINTAS PARA POSTES CORTA FLUJO-AIES-comprasal.pdf
URL:https://www.cepa.gob.sv/event/cepa-cd-37-2023-suministro-e-instalacion-de-cintas-para-postes-corta-flujo-para-el-aeropuerto-internacional-de-el-salvador-san-oscar-arnulfo-romero-y-galdamez/
CATEGORIES:Licitación Abierta
END:VEVENT
BEGIN:VEVENT
DTSTART;TZID=America/Chicago:20231024T080000
DTEND;TZID=America/Chicago:20240111T164500
DTSTAMP:20260424T060716
CREATED:20231024T194241Z
LAST-MODIFIED:20231024T200424Z
UID:10780-1698134400-1704991500@www.cepa.gob.sv
SUMMARY:Licitación Competitiva CEPA LC-27/2023\, “Suministro de material eléctrico para las empresas de CEPA”
DESCRIPTION:DSO LC-27-2023 SUMINISTRO ELÉCTRICO (ORDEN DE COMPRA).docx \nDSO LC-27-2023 SUMINISTRO ELÉCTRICO PARA LAS EMPRESAS DE CEPA.pdf \nPLAN DE IMPLEMENTACION DEL PROCESO.pdf
URL:https://www.cepa.gob.sv/event/licitacion-competitiva-cepa-lc-27-2023-suministro-de-material-electrico-para-las-empresas-de-cepa/
CATEGORIES:Licitación Abierta
END:VEVENT
BEGIN:VEVENT
DTSTART;TZID=America/Chicago:20231024T080000
DTEND;TZID=America/Chicago:20231222T164500
DTSTAMP:20260424T060716
CREATED:20231024T200814Z
LAST-MODIFIED:20231024T200814Z
UID:10785-1698134400-1703263500@www.cepa.gob.sv
SUMMARY:CEPA LC-25/2023: “REPARACION DE LA SUPERFICIE ASFALTICA EN CALLE DE RODAJE DELTA Y BACHEO EN CALLES DE RODAJE ECO Y BRAVO DEL AEROPUERTO INTERNACIONAL DE ILOPANGO”
DESCRIPTION:DSO LC 25 2023 REPARAC ASFA CALLES AILO.pdf \nDSO LC-25 REPARACION SUPERF ASFALTICA AILO.docx \nPIP PROCESO CEPA LC-25-2023 REPARAC SUPERF ASFALT AILO.pdf
URL:https://www.cepa.gob.sv/event/cepa-lc-25-2023-reparacion-de-la-superficie-asfaltica-en-calle-de-rodaje-delta-y-bacheo-en-calles-de-rodaje-eco-y-bravo-del-aeropuerto-internacional-de-ilopango/
CATEGORIES:Licitación Abierta
END:VEVENT
BEGIN:VEVENT
DTSTART;TZID=America/Chicago:20231024T080000
DTEND;TZID=America/Chicago:20231113T164500
DTSTAMP:20260424T060716
CREATED:20231024T210635Z
LAST-MODIFIED:20231024T210635Z
UID:10788-1698134400-1699893900@www.cepa.gob.sv
SUMMARY:CEPA LC 24/2023 “SUMINISTRO DE CÁMARAS DE SEGURIDAD IP PARA EL AEROPUERTO INTERNACIONAL DE EL SALVADOR\, SAN ÓSCAR ARNULFO ROMERO Y GALDÁMEZ\, Y OFICINA CENTRAL”
DESCRIPTION:DSO CEPA LC 24-2023 Suministro e instalación de cámaras IP Oficina Central y AIES SOARG.docx
URL:https://www.cepa.gob.sv/event/cepa-lc-24-2023-suministro-de-camaras-de-seguridad-ip-para-el-aeropuerto-internacional-de-el-salvador-san-oscar-arnulfo-romero-y-galdamez-y-oficina-central/
CATEGORIES:Licitación Abierta
END:VEVENT
BEGIN:VEVENT
DTSTART;TZID=America/Chicago:20231024T080000
DTEND;TZID=America/Chicago:20231106T235500
DTSTAMP:20260424T060716
CREATED:20231024T230358Z
LAST-MODIFIED:20231024T230358Z
UID:10792-1698134400-1699314900@www.cepa.gob.sv
SUMMARY:CEPA-LC 23/2023\, “SUMINISTRO DE REPUESTOS PARA LOS SISTEMAS DE AIRE ACONDICIONADO PARA EL AEROPUERTO INTERNACIONAL DE EL SALVADOR SAN ÓSCAR ARNULFO ROMERO Y GALDÁMEZ”.
DESCRIPTION:DSO CEPA LC 23-2023
URL:https://www.cepa.gob.sv/event/cepa-lc-23-2023-suministro-de-repuestos-para-los-sistemas-de-aire-acondicionado-para-el-aeropuerto-internacional-de-el-salvador-san-oscar-arnulfo-romero-y-galdamez/
CATEGORIES:Licitación Abierta
END:VEVENT
BEGIN:VEVENT
DTSTART;TZID=America/Chicago:20231024T080000
DTEND;TZID=America/Chicago:20231026T164500
DTSTAMP:20260424T060716
CREATED:20231025T162545Z
LAST-MODIFIED:20231025T162545Z
UID:10795-1698134400-1698338700@www.cepa.gob.sv
SUMMARY:CEPA CD 35/2023 “SERVICIO DE CERTIFICACIÓN EN LA PLATAFORMA GENETEC SECURITY CENTER PARA PERSONAL TÉCNICO DE CEPA”
DESCRIPTION:DSO CEPA CD 35-2023 Servicio de certificación de la plataforma GENETEC-SECURITY-CENTER.docx \n 
URL:https://www.cepa.gob.sv/event/cepa-cd-35-2023-servicio-de-certificacion-en-la-plataforma-genetec-security-center-para-personal-tecnico-de-cepa/
CATEGORIES:Licitación Abierta
END:VEVENT
BEGIN:VEVENT
DTSTART;TZID=America/Chicago:20231023T080000
DTEND;TZID=America/Chicago:20231107T164500
DTSTAMP:20260424T060716
CREATED:20231023T214504Z
LAST-MODIFIED:20231023T214504Z
UID:10775-1698048000-1699375500@www.cepa.gob.sv
SUMMARY:COMPARACION DE PRECIOS CEPA CDP-83/2023 “SERVICIOS DE MANTENIMIENTO DE TECHOS DE CASETAS Y SUMINISTRO E INSTALACIÓN DE SISTEMAS DE DRENAJE PARA AGUAS LLUVIAS EN FOSAS DE LOS TRANSPORTADORES DEL PUERTO DE ACAJUTLA”
DESCRIPTION:Documento de Solicitud de Oferta CEPA-CDP 83-2023 Techos y Sistema de drenaje Puerto de Acajutla.pdf \nDocumento de Solicitud de Oferta CEPA-CDP 83-2023 Techos y Sistema de drenaje Puerto de Acajutla.docx
URL:https://www.cepa.gob.sv/event/comparacion-de-precios-cepa-cdp-83-2023-servicios-de-mantenimiento-de-techos-de-casetas-y-suministro-e-instalacion-de-sistemas-de-drenaje-para-aguas-lluvias-en-fosas-de-los-transportadores-de/
CATEGORIES:Licitación Abierta
END:VEVENT
BEGIN:VEVENT
DTSTART;TZID=America/Chicago:20231023T080000
DTEND;TZID=America/Chicago:20231027T235900
DTSTAMP:20260424T060716
CREATED:20231023T210229Z
LAST-MODIFIED:20231023T210229Z
UID:10771-1698048000-1698451140@www.cepa.gob.sv
SUMMARY:CEPA-CDP 112/2023 “SUMINISTRO DE MOTOCICLETAS Y BICICLETAS PARA EL PUERTO DE ACAJUTLA Y AEROPUERTO INTERNACIONAL DE EL SALVADOR\, SAN ÓSCAR ARNULFO ROMERO Y GALDÁMEZ”
DESCRIPTION:DSO CEPA-CDP 112-2023-MOTOCICLETAS Y BICICLETAS-ACA-AIES comprasal.docx \nDSO CEPA-CDP 112-2023-MOTOCICLETAS Y BICICLETAS-ACA-AIES comprasal.pdf
URL:https://www.cepa.gob.sv/event/cepa-cdp-112-2023-suministro-de-motocicletas-y-bicicletas-para-el-puerto-de-acajutla-y-aeropuerto-internacional-de-el-salvador-san-oscar-arnulfo-romero-y-galdamez/
CATEGORIES:Licitación Abierta
END:VEVENT
BEGIN:VEVENT
DTSTART;TZID=America/Chicago:20231020T080000
DTEND;TZID=America/Chicago:20231105T235500
DTSTAMP:20260424T060716
CREATED:20231020T205609Z
LAST-MODIFIED:20231020T205609Z
UID:10745-1697788800-1699228500@www.cepa.gob.sv
SUMMARY:CEPA CDP 119/2023\, “SUMINISTRO DE QUÍMICOS INDUSTRIALES PARA EL AEROPUERTO INTERNACIONAL DE EL SALVADOR\, SAN ÓSCAR ARNULFO ROMERO Y GALDÁMEZ”
DESCRIPTION:DSO CEPA 119-2023 Publicado.pdf \nDSO CEPA-CDP119-2023 Publicado.docx
URL:https://www.cepa.gob.sv/event/cepa-cdp-119-2023-suministro-de-quimicos-industriales-para-el-aeropuerto-internacional-de-el-salvador-san-oscar-arnulfo-romero-y-galdamez/
CATEGORIES:Licitación Abierta
END:VEVENT
BEGIN:VEVENT
DTSTART;TZID=America/Chicago:20231019T080000
DTEND;TZID=America/Chicago:20231025T170000
DTSTAMP:20260424T060716
CREATED:20231019T222509Z
LAST-MODIFIED:20231019T222509Z
UID:10741-1697702400-1698253200@www.cepa.gob.sv
SUMMARY:CEPA-CDP 115/2023 “SUMINISTRO DE ELECTRODOMÉSTICOS PARA EL PUERTO DE ACAJUTLA\, AEROPUERTO INTERNACIONAL DE EL SALVADOR\, SAN ÓSCAR ARNULFO ROMERO Y GALDÁMEZ Y OFICINA CENTRAL”
DESCRIPTION:DOCUMENTO DE SOLICITUD DE OFERTA CEPA-CDP 115-2023.docx \nDOCUMENTO DE SOLICITUD DE OFERTA CEPA-CDP 115-2023.pdf
URL:https://www.cepa.gob.sv/event/cepa-cdp-115-2023-suministro-de-electrodomesticos-para-el-puerto-de-acajutla-aeropuerto-internacional-de-el-salvador-san-oscar-arnulfo-romero-y-galdamez-y-oficina-central/
CATEGORIES:Licitación Abierta
END:VEVENT
BEGIN:VEVENT
DTSTART;TZID=America/Chicago:20231019T080000
DTEND;TZID=America/Chicago:20231023T170000
DTSTAMP:20260424T060716
CREATED:20231019T174312Z
LAST-MODIFIED:20231019T174312Z
UID:10733-1697702400-1698080400@www.cepa.gob.sv
SUMMARY:CDP-81/2023 “SUMINISTRO DE MARCHAMOS DE SEGURIDAD PARA EL PUERTO DE ACAJUTLA”
DESCRIPTION:DSO CDP 81-2023 PDF \nDSO CDP 81-2023 SUMINISTRO DE MARCHAMOS COMPRASAL \n 
URL:https://www.cepa.gob.sv/event/cdp-81-2023-suministro-de-marchamos-de-seguridad-para-el-puerto-de-acajutla/
CATEGORIES:Licitación Abierta
END:VEVENT
BEGIN:VEVENT
DTSTART;TZID=America/Chicago:20231019T080000
DTEND;TZID=America/Chicago:20231023T170000
DTSTAMP:20260424T060716
CREATED:20231019T141010Z
LAST-MODIFIED:20231019T141010Z
UID:10729-1697702400-1698080400@www.cepa.gob.sv
SUMMARY:CEPA SDC-04/2023 “SERVICIOS DE LABORATORIO PARA PRUEBA DE SOLDADURA\, PARA EL PROYECTO DE CONSTRUCCIÓN Y EQUIPAMIENTO DE NUEVA BODEGA DEL PUERTO DE ACAJUTLA”
DESCRIPTION:SDC 04_2023 PARTE I \nSDC 04_2023 PARTE II \n 
URL:https://www.cepa.gob.sv/event/cepa-sdc-04-2023-servicios-de-laboratorio-para-prueba-de-soldadura-para-el-proyecto-de-construccion-y-equipamiento-de-nueva-bodega-del-puerto-de-acajutla/
CATEGORIES:Licitación Abierta
END:VEVENT
BEGIN:VEVENT
DTSTART;TZID=America/Chicago:20231018T080000
DTEND;TZID=America/Chicago:20240207T164500
DTSTAMP:20260424T060716
CREATED:20231018T165437Z
LAST-MODIFIED:20231018T165437Z
UID:10708-1697616000-1707324300@www.cepa.gob.sv
SUMMARY:LICITACIÓN ABIERTA CEPA LA 25/2023 “SUMINISTRO DE REPUESTOS PARA EQUIPOS DE MANEJO DE CARGA DEL PUERTO DE ACAJUTLA”
DESCRIPTION:DSO CEPA LA 25-2023 REPUESTOS PARA EQUIPO DE CARGA.docx \nDSO CEPA LA 25-2023 REPUESTOS PARA EQUIPO DE CARGA.pdf \nPLAN DE IMPLELEMENTACIÓN COMPRASAL.pdf
URL:https://www.cepa.gob.sv/event/licitacion-abierta-cepa-la-25-2023-suministro-de-repuestos-para-equipos-de-manejo-de-carga-del-puerto-de-acajutla/
CATEGORIES:Licitación Abierta
END:VEVENT
BEGIN:VEVENT
DTSTART;TZID=America/Chicago:20231018T080000
DTEND;TZID=America/Chicago:20231126T164500
DTSTAMP:20260424T060716
CREATED:20231018T222825Z
LAST-MODIFIED:20231018T222825Z
UID:10725-1697616000-1701017100@www.cepa.gob.sv
SUMMARY:CEPA-LA 26/2023 “SUMINISTRO DE MATERIALES DE FERRETERÍA PARA EL PUERTO DE ACAJUTLA\, AEROPUERTO INTERNACIONAL DE EL SALVADOR\, SAN ÓSCAR ARNULFO ROMERO Y GALDÁMEZ Y PUERTO DE LA UNIÓN”
DESCRIPTION:DSO CEPA LA 26-2023 Suministro de materiales de ferretería.docx
URL:https://www.cepa.gob.sv/event/cepa-la-26-2023-suministro-de-materiales-de-ferreteria-para-el-puerto-de-acajutla-aeropuerto-internacional-de-el-salvador-san-oscar-arnulfo-romero-y-galdamez-y-puerto-de-la-union/
CATEGORIES:Licitación Abierta
END:VEVENT
BEGIN:VEVENT
DTSTART;TZID=America/Chicago:20231018T080000
DTEND;TZID=America/Chicago:20231126T164500
DTSTAMP:20260424T060716
CREATED:20231018T174724Z
LAST-MODIFIED:20231018T174724Z
UID:10718-1697616000-1701017100@www.cepa.gob.sv
SUMMARY:LICITACION ABIERTA CEPA LA-24/2023 “SUMINISTRO DE MATERIALES PARA LA REPARACIÓN DE LA UNIDAD DE CARGA (UCA) Y LAS DEFENSAS DE LOS MUELLES “A” Y “B”\, DEL PUERTO DE ACAJUTLA”
DESCRIPTION:AVISO DE CONVOCATORIA CEPA LA-24-2023.pdf \nDocumento de Solicitud de Oferta CEPA LA 24-2023 Materiales para muelles A y B Acajutla.doc \nDocumento de Solicitud de Oferta CEPA LA 24-2023 Materiales para muelles A y B Acajutla.pdf
URL:https://www.cepa.gob.sv/event/licitacion-abierta-cepa-la-24-2023-suministro-de-materiales-para-la-reparacion-de-la-unidad-de-carga-uca-y-las-defensas-de-los-muelles-a-y-b-del-puerto/
CATEGORIES:Licitación Abierta
END:VEVENT
BEGIN:VEVENT
DTSTART;TZID=America/Chicago:20231018T080000
DTEND;TZID=America/Chicago:20231126T164500
DTSTAMP:20260424T060716
CREATED:20231018T174134Z
LAST-MODIFIED:20231018T174134Z
UID:10713-1697616000-1701017100@www.cepa.gob.sv
SUMMARY:LICITACION COMPETITIVA CEPA LC-22/2023 “SUMINISTRO DE HERRAMIENTAS Y EQUIPOS PARA EL PUERTO DE ACAJUTLA\, PUERTO DE LA UNIÓN Y EL AEROPUERTO INTERNACIONAL DE EL SALVADOR\, SAN OSCAR ARNULFO ROMERO Y GALDÁMEZ”
DESCRIPTION:AVISO DE CONVOCATORIA CEPA LC-22-2023.pdf \nDocumento de Solicitud de Oferta CEPA LC-22-2023 Suministro de Herramientas CEPA.doc \nDocumento de Solicitud de Oferta CEPA LC-22-2023 Suministro de Herramientas CEPA.pdf
URL:https://www.cepa.gob.sv/event/licitacion-competitiva-cepa-lc-22-2023-suministro-de-herramientas-y-equipos-para-el-puerto-de-acajutla-puerto-de-la-union-y-el-aeropuerto-internacional-de-el-salvador-san-oscar-arnulfo-rome/
CATEGORIES:Licitación Abierta
END:VEVENT
BEGIN:VEVENT
DTSTART;TZID=America/Chicago:20231018T080000
DTEND;TZID=America/Chicago:20231027T235500
DTSTAMP:20260424T060716
CREATED:20231018T222246Z
LAST-MODIFIED:20231018T222246Z
UID:10722-1697616000-1698450900@www.cepa.gob.sv
SUMMARY:CEPA-CDP 107/2023\, “SUMINISTRO DE SERVICIO DE MANTENIMIENTO DE MOTOR GM DETROIT 6L-71 DEL BOTE PILOTO CALUCO”
DESCRIPTION:DSO CEPA-CDP-107-2023 PUBLICADO FINAL.docx \nDSO CEPA-CDP107-2023 Publicado.pdf
URL:https://www.cepa.gob.sv/event/cepa-cdp-107-2023-suministro-de-servicio-de-mantenimiento-de-motor-gm-detroit-6l-71-del-bote-piloto-caluco/
CATEGORIES:Licitación Abierta
END:VEVENT
BEGIN:VEVENT
DTSTART;TZID=America/Chicago:20231018T080000
DTEND;TZID=America/Chicago:20231022T234500
DTSTAMP:20260424T060716
CREATED:20231018T164919Z
LAST-MODIFIED:20231018T164919Z
UID:10703-1697616000-1698018300@www.cepa.gob.sv
SUMMARY:CEPA CDP 108-2023\, “SUMINISTRO DE CONSUMIBLES PARA LA EMISIÓN DE CARNETS DEL PERSONAL DEL AEROPUERTO INTERNACIONAL DE EL SALVADOR\, SAN ÓSCAR ARNULFO ROMERO Y GALDÁMEZ”
DESCRIPTION:CEPA CDP 108-2023 COMPRASAL.pdf \nDSO CDP 108-2023 YMCK TARJ ELECTRO Y PVC COMPRASAL.docx
URL:https://www.cepa.gob.sv/event/cepa-cdp-108-2023-suministro-de-consumibles-para-la-emision-de-carnets-del-personal-del-aeropuerto-internacional-de-el-salvador-san-oscar-arnulfo-romero-y-galdamez/
CATEGORIES:Licitación Abierta
END:VEVENT
BEGIN:VEVENT
DTSTART;TZID=America/Chicago:20231018T080000
DTEND;TZID=America/Chicago:20231020T164500
DTSTAMP:20260424T060716
CREATED:20231019T220711Z
LAST-MODIFIED:20231019T221401Z
UID:10736-1697616000-1697820300@www.cepa.gob.sv
SUMMARY:CEPA-SDC 05/2023 “SERVICIO DE AUDITORÍA COMPLEMENTARIA DEL SISTEMA DE GESTION DE CALIDAD DE LOS SERVICIOS DE NAVEGACIÓN AÉREA”
DESCRIPTION:DSO CEPA-SDC-05-2023 CERTIFICACIÓN DE SISTEMA DE CALIDAD AIES.docx
URL:https://www.cepa.gob.sv/event/cepa-sdc-05-2023-servicio-de-auditoria-complementaria-del-sistema-de-gestion-de-calidad-de-los-servicios-de-navegacion-aerea/
CATEGORIES:Licitación Abierta
END:VEVENT
BEGIN:VEVENT
DTSTART;TZID=America/Chicago:20231017T080000
DTEND;TZID=America/Chicago:20231022T235500
DTSTAMP:20260424T060716
CREATED:20231018T142200Z
LAST-MODIFIED:20231018T142200Z
UID:10699-1697529600-1698018900@www.cepa.gob.sv
SUMMARY:CEPA CDP 103-2023\, “SUMINISTRO DE PANELES TIPO LED Y LOSETAS DE FIBRA PARA OFICINA CENTRAL-PROYECTO DE EFICIENCIA ENERGÉTICA FASE II” SEGUNDA CONVOCATORIA”
DESCRIPTION:CEPA CDP 103-2023 COMPRASAL.pdf \nDSO CDP 103-2023 LOSETA CINTA AISLANTE PANEL LED_COMPRASAL.docx
URL:https://www.cepa.gob.sv/event/cepa-cdp-103-2023-suministro-de-paneles-tipo-led-y-losetas-de-fibra-para-oficina-central-proyecto-de-eficiencia-energetica-fase-ii-segunda-convocatoria/
CATEGORIES:Licitación Abierta
END:VEVENT
BEGIN:VEVENT
DTSTART;TZID=America/Chicago:20231017T080000
DTEND;TZID=America/Chicago:20231020T164500
DTSTAMP:20260424T060716
CREATED:20231018T141304Z
LAST-MODIFIED:20231018T141304Z
UID:10694-1697529600-1697820300@www.cepa.gob.sv
SUMMARY:CEPA-CDP 104/2023 “SUMINISTRO DE CHALECOS FLUORESCENTES REFLECTIVOS\, CONOS DE SEGURIDAD PARA TRAFICO Y CINTAS DE SEÑALIZACION DE SEGURIDAD\, PARA EL AEROPUERTO INTERNACIONAL DE EL SALVADOR\, SAN ÓSCAR ARNULFO ROMERO Y GALDAMEZ Y PARA EL AEROPUERTO INTERNACIONAL DE ILOPANGO”
DESCRIPTION:DOCUMENTO DE SOLICITUD DE OFERTA CEPA-CDP 104-2023.docx \nDOCUMENTO DE SOLICITUD DE OFERTA CEPA-CDP 104-2023.pdf
URL:https://www.cepa.gob.sv/event/cepa-cdp-104-2023-suministro-de-chalecos-fluorescentes-reflectivos-conos-de-seguridad-para-trafico-y-cintas-de-senalizacion-de-seguridad-para-el-aeropuerto-internacional-de-el-salvador-san/
CATEGORIES:Licitación Abierta
END:VEVENT
BEGIN:VEVENT
DTSTART;TZID=America/Chicago:20231017T080000
DTEND;TZID=America/Chicago:20231019T233000
DTSTAMP:20260424T060716
CREATED:20231017T185949Z
LAST-MODIFIED:20231017T185949Z
UID:10690-1697529600-1697758200@www.cepa.gob.sv
SUMMARY:CDP 120-2023\, “SUMINISTRO DE MOBILIARIO EN SALAS DE REUNIONES Y AREAS COMUNES EN LA TERMINAL DE PASAJEROS DEL AEROPUERTO INTERNACIONAL DE ILOPANGO”
DESCRIPTION:CEPA CDP 120-2023 \nDSO CDP 120-2023 MOBILIARIO AILO US COMPRASAL \n 
URL:https://www.cepa.gob.sv/event/cdp-120-2023-suministro-de-mobiliario-en-salas-de-reuniones-y-areas-comunes-en-la-terminal-de-pasajeros-del-aeropuerto-internacional-de-ilopango/
CATEGORIES:Licitación Abierta
END:VEVENT
BEGIN:VEVENT
DTSTART;TZID=America/Chicago:20231016T080000
DTEND;TZID=America/Chicago:20231023T170000
DTSTAMP:20260424T060716
CREATED:20231016T231920Z
LAST-MODIFIED:20231016T231920Z
UID:10686-1697443200-1698080400@www.cepa.gob.sv
SUMMARY:CDP-110/2023 “SUMINISTRO DE UN EQUIPO DETECTOR DE TRAZAS DE EXPLOSIVOS PARA EL AEROPUERTO INTERNACIONAL DE EL SALVADOR\, SAN ÓSCAR ARNULFO ROMERO Y GALDÁMEZ”.
DESCRIPTION:1. DSO CEPA CDP-110-2023 EQUIPO TRAZAS \nDSO 110-2023 EQUIPO DETECTOR DE TRANZAS \nPIP COMPRASAL \n 
URL:https://www.cepa.gob.sv/event/cdp-110-2023-suministro-de-un-equipo-detector-de-trazas-de-explosivos-para-el-aeropuerto-internacional-de-el-salvador-san-oscar-arnulfo-romero-y-galdamez/
CATEGORIES:Licitación Abierta
END:VEVENT
BEGIN:VEVENT
DTSTART;TZID=America/Chicago:20231012T040000
DTEND;TZID=America/Chicago:20231023T115500
DTSTAMP:20260424T060716
CREATED:20231012T221058Z
LAST-MODIFIED:20231012T221058Z
UID:10674-1697083200-1698062100@www.cepa.gob.sv
SUMMARY:CEPA CD-32/2023\, “Servicio de mantenimiento preventivo y correctivo a los motores principales instalados en los remolcadores Acajutla\, Izalco y Cuscatlán\, y a los motores auxiliares de bomba contra incendio de los remolcadores Acajutla e Izalco\, propiedad del Puerto de Acajutla”
DESCRIPTION:DSO CD 32 2023 PUBLICAR \nDSO CD-32-2023 MANTENIMIENTO REMOLCADORES (COMPRASAL) \nPIP
URL:https://www.cepa.gob.sv/event/cepa-cd-32-2023-servicio-de-mantenimiento-preventivo-y-correctivo-a-los-motores-principales-instalados-en-los-remolcadores-acajutla-izalco-y-cuscatlan-y-a-los-motores-auxiliares-de-bomba-c/
CATEGORIES:Licitación Abierta
END:VEVENT
BEGIN:VEVENT
DTSTART;TZID=America/Chicago:20231011T080000
DTEND;TZID=America/Chicago:20231204T164500
DTSTAMP:20260424T060716
CREATED:20231011T200918Z
LAST-MODIFIED:20231011T200918Z
UID:10654-1697011200-1701708300@www.cepa.gob.sv
SUMMARY:CEPA LC-21/2023: “REHABILITACIÓN DEL PAVIMENTO ASFÁLTICO EN CALLE DE RODAJE ALFA Y PISTA 07/25 DEL AEROPUERTO INTERNACIONAL DE EL SALVADOR\, SAN ÓSCAR ARNULFO ROMERO Y GALDÁMEZ”
DESCRIPTION:DSO LC-21-2023 2do proc REHAB PAV ASF CALLE R Y PISTA AIES.docx \nINVITACION CEPA LC-21-2023 REHABILIT PAV AIES-SOARG.pdf \nPIP PROGRAMACION DEL PROCESO CEPA LC-21-2023 REHABILIT PAV AIES.pdf
URL:https://www.cepa.gob.sv/event/cepa-lc-21-2023-rehabilitacion-del-pavimento-asfaltico-en-calle-de-rodaje-alfa-y-pista-07-25-del-aeropuerto-internacional-de-el-salvador-san-oscar-arnulfo-romero-y-galdamez/
CATEGORIES:Licitación Abierta
END:VEVENT
BEGIN:VEVENT
DTSTART;TZID=America/Chicago:20231010T080000
DTEND;TZID=America/Chicago:20231120T235500
DTSTAMP:20260424T060716
CREATED:20231010T200553Z
LAST-MODIFIED:20231010T200553Z
UID:10639-1696924800-1700524500@www.cepa.gob.sv
SUMMARY:LICITACION ABIERTA CEPA LA-22/2023\, “DESMONTAJE\, SUMINISTRO E INSTALACIÓN Y PUESTA EN MARCHA DE TRES (3) CHILLERS PARA EL AEROPUERTO INTERNACIONAL DE EL SALVADOR\, SAN ÓSCAR ARNULFO ROMERO Y GALDÁMEZ”
DESCRIPTION:DSO LA 22-2023 publico.doc \nDSO LA 22-2023 Publico.pdf
URL:https://www.cepa.gob.sv/event/licitacion-abierta-cepa-la-22-2023-desmontaje-suministro-e-instalacion-y-puesta-en-marcha-de-tres-3-chillers-para-el-aeropuerto-internacional-de-el-salvador-san-oscar-arnulfo-romero-y-ga/
CATEGORIES:Licitación Abierta
END:VEVENT
BEGIN:VEVENT
DTSTART;TZID=America/Chicago:20231010T080000
DTEND;TZID=America/Chicago:20231117T164500
DTSTAMP:20260424T060716
CREATED:20231010T182753Z
LAST-MODIFIED:20231010T182753Z
UID:10631-1696924800-1700239500@www.cepa.gob.sv
SUMMARY:CEPA- LA 23/2023 “SUMINISTRO DE RECURSO INFORMÁTICO PARA LAS EMPRESAS DE CEPA”
DESCRIPTION:DSO CEPA LA 23-2023 Suministro de recurso informático para las empresas de CEPA.docx
URL:https://www.cepa.gob.sv/event/cepa-la-23-2023-suministro-de-recurso-informatico-para-las-empresas-de-cepa/
CATEGORIES:Licitación Abierta
END:VEVENT
BEGIN:VEVENT
DTSTART;TZID=America/Chicago:20231010T080000
DTEND;TZID=America/Chicago:20231116T164500
DTSTAMP:20260424T060716
CREATED:20231010T194802Z
LAST-MODIFIED:20231010T194802Z
UID:10635-1696924800-1700153100@www.cepa.gob.sv
SUMMARY:CEPA CDP-98/2023: “SUMINISTRO\, INSTALACION Y PUESTA EN SERVICIO DE EQUIPOS DE AIRES ACONDICIONADOS PARA EL AEROPUERTO INTERNACIONAL DE EL SALVADOR SAN OSCAR ARNULFO ROMERO Y GALDAMEZ\, OFICINA CENTRAL Y EX FENADESAL”
DESCRIPTION:DSO CDP-98 2023 AIRES ACONDICIONADOS.pdf \nPIP PROGRAMACION CDP-98 2023 AIRES ACONDICIONADOS.pdf
URL:https://www.cepa.gob.sv/event/cepa-cdp-98-2023-suministro-instalacion-y-puesta-en-servicio-de-equipos-de-aires-acondicionados-para-el-aeropuerto-internacional-de-el-salvador-san-oscar-arnulfo-romero-y-galdamez-oficina/
CATEGORIES:Licitación Abierta
END:VEVENT
END:VCALENDAR