BEGIN:VCALENDAR
VERSION:2.0
PRODID:-//Comisión Ejecutiva Portuaria Autónoma CEPA El Salvador - ECPv6.15.13//NONSGML v1.0//EN
CALSCALE:GREGORIAN
METHOD:PUBLISH
X-WR-CALNAME:Comisión Ejecutiva Portuaria Autónoma CEPA El Salvador
X-ORIGINAL-URL:https://www.cepa.gob.sv
X-WR-CALDESC:Eventos para Comisión Ejecutiva Portuaria Autónoma CEPA El Salvador
REFRESH-INTERVAL;VALUE=DURATION:PT1H
X-Robots-Tag:noindex
X-PUBLISHED-TTL:PT1H
BEGIN:VTIMEZONE
TZID:America/Chicago
BEGIN:DAYLIGHT
TZOFFSETFROM:-0600
TZOFFSETTO:-0500
TZNAME:CDT
DTSTART:20220313T080000
END:DAYLIGHT
BEGIN:STANDARD
TZOFFSETFROM:-0500
TZOFFSETTO:-0600
TZNAME:CST
DTSTART:20221106T070000
END:STANDARD
BEGIN:DAYLIGHT
TZOFFSETFROM:-0600
TZOFFSETTO:-0500
TZNAME:CDT
DTSTART:20230312T080000
END:DAYLIGHT
BEGIN:STANDARD
TZOFFSETFROM:-0500
TZOFFSETTO:-0600
TZNAME:CST
DTSTART:20231105T070000
END:STANDARD
BEGIN:DAYLIGHT
TZOFFSETFROM:-0600
TZOFFSETTO:-0500
TZNAME:CDT
DTSTART:20240310T080000
END:DAYLIGHT
BEGIN:STANDARD
TZOFFSETFROM:-0500
TZOFFSETTO:-0600
TZNAME:CST
DTSTART:20241103T070000
END:STANDARD
END:VTIMEZONE
BEGIN:VEVENT
DTSTART;TZID=America/Chicago:20230911T080000
DTEND;TZID=America/Chicago:20230918T164500
DTSTAMP:20260424T145342
CREATED:20230911T220200Z
LAST-MODIFIED:20230911T220200Z
UID:10471-1694419200-1695055500@www.cepa.gob.sv
SUMMARY:CONTRATACION DIRECTA CEPA-CD 29/2023 “MANTENIMIENTO CORRECTIVO PARA EQUIPOS DETECTOR DE TRAZAS DE EXPLOSIVOS Y SUMINISTRO E INSTALACIÓN DE TUBO GENERADOR DE RAYOS X DEL AEROPUERTO INTERNACIONAL DE EL SALVADOR\, SAN OSCAR ARNULFO ROMERO Y GALDÁMEZ”
DESCRIPTION:Documento de Solicitud de Oferta CEPA CD 29-2023 Trazas y Tubo Rayos X.docx \nDocumento de Solicitud de Oferta CEPA CD 29-2023 Trazas y Tubo Rayos X.pdf
URL:https://www.cepa.gob.sv/event/contratacion-directa-cepa-cd-29-2023-mantenimiento-correctivo-para-equipos-detector-de-trazas-de-explosivos-y-suministro-e-instalacion-de-tubo-generador-de-rayos-x-del-aeropuerto-internaciona/
CATEGORIES:Licitación Abierta
END:VEVENT
BEGIN:VEVENT
DTSTART;TZID=America/Chicago:20230911T080000
DTEND;TZID=America/Chicago:20230917T164500
DTSTAMP:20260424T145342
CREATED:20230911T220628Z
LAST-MODIFIED:20230911T220628Z
UID:10475-1694419200-1694969100@www.cepa.gob.sv
SUMMARY:COMPARACIÓN DE PRECIOS CEPA-CDP 67/2023 “SUMINISTRO DE ESPUMA AFFF AL 6% PARA LOS AEROPUERTOS INTERNACIONALES DE EL SALVADOR\, SAN ÓSCAR ARNULFO ROMERO Y GALDÁMEZ E ILOPANGO”
DESCRIPTION:Documento de Solicitud de Oferta CEPA CDP-67-2023 Espuma AFFF.docx \nDocumento de Solicitud de Oferta CEPA CDP-67-2023 Espuma AFFF.pdf
URL:https://www.cepa.gob.sv/event/comparacion-de-precios-cepa-cdp-67-2023-suministro-de-espuma-afff-al-6-para-los-aeropuertos-internacionales-de-el-salvador-san-oscar-arnulfo-romero-y-galdamez-e-ilopango/
CATEGORIES:Licitación Abierta
END:VEVENT
BEGIN:VEVENT
DTSTART;TZID=America/Chicago:20230911T080000
DTEND;TZID=America/Chicago:20230913T235500
DTSTAMP:20260424T145342
CREATED:20230911T194339Z
LAST-MODIFIED:20230911T194339Z
UID:10467-1694419200-1694649300@www.cepa.gob.sv
SUMMARY:CEPA CDP 91-2023\, “SUMINISTRO DE EMULSIÓN Y MEZCLA ASFÁLTICA PARA EL PUERTO DE ACAJUTLA Y EL AEROPUERTO INTERNACIONAL DE EL SALVADOR\, SAN ÓSCAR ARNULFO ROMERO Y GALDÁMEZ” SEGUNDA CONVOCATORIA
DESCRIPTION:DSO CDP 91-2023 Emulsión y Mezcla asfáltica COMPRASAL.docx \nDSO CEPA CDP 91-2023 COMPRASAL.pdf
URL:https://www.cepa.gob.sv/event/cepa-cdp-91-2023-suministro-de-emulsion-y-mezcla-asfaltica-para-el-puerto-de-acajutla-y-el-aeropuerto-internacional-de-el-salvador-san-oscar-arnulfo-romero-y-galdamez-segunda-convo/
CATEGORIES:Licitación Abierta
END:VEVENT
BEGIN:VEVENT
DTSTART;TZID=America/Chicago:20230907T080000
DTEND;TZID=America/Chicago:20231031T170000
DTSTAMP:20260424T145342
CREATED:20230907T154540Z
LAST-MODIFIED:20230907T154540Z
UID:10400-1694073600-1698771600@www.cepa.gob.sv
SUMMARY:CEPA SDC-02/2023: SERVICIOS DE LABORATORIO DE MATERIALES\, PROCESOS CONSTRUCTIVOS Y TOPOGRAFÍA PARA EL PROYECTO: AMPLIACIÓN DEL ÁREA DE REGISTRO DE PASAJEROS DEL AEROPUERTO INTERNACIONAL DE EL SALVADOR\, SAN OSCAR ARNULFO ROMERO Y GALDÁMEZ
DESCRIPTION:DSO CEPA SDC-02-2023 LABORAT AREA DE REGISTR AIES \nPIP PLAN DE IMPLEMENTACION PROCESO SDC 02 2023 LABORAT AREA DE REGIST AIES
URL:https://www.cepa.gob.sv/event/cepa-sdc-02-2023-servicios-de-laboratorio-de-materiales-procesos-constructivos-y-topografia-para-el-proyecto-ampliacion-del-area-de-registro-de-pasajeros-del-aeropuerto-internacional-de-el-salvador/
CATEGORIES:Licitación Abierta
END:VEVENT
BEGIN:VEVENT
DTSTART;TZID=America/Chicago:20230907T080000
DTEND;TZID=America/Chicago:20231031T170000
DTSTAMP:20260424T145342
CREATED:20230907T153831Z
LAST-MODIFIED:20230907T153831Z
UID:10396-1694073600-1698771600@www.cepa.gob.sv
SUMMARY:LC 16 2023 AMPLIACION PARQUEO AIES
DESCRIPTION:PIP Y DSO LC-16-2023 \nPLAN DE IMPLEMENTACION PROCESO PIP LC 16 2023 AMPLIACION PARQUEO AIES \n 
URL:https://www.cepa.gob.sv/event/lc-16-2023-ampliacion-parqueo-aies/
CATEGORIES:Licitación Abierta
END:VEVENT
BEGIN:VEVENT
DTSTART;TZID=America/Chicago:20230907T080000
DTEND;TZID=America/Chicago:20230930T170000
DTSTAMP:20260424T145342
CREATED:20230907T192805Z
LAST-MODIFIED:20230907T201107Z
UID:10406-1694073600-1696093200@www.cepa.gob.sv
SUMMARY:CEPA SDC-03/2023: “CONSULTORÍA DE DISEÑO PARA LA REHABILITACIÓN DE LA PLANTA DE TRATAMIENTO ALFA DEL AEROPUERTO INTERNACIONAL DE EL SALVADOR\, SAN ÓSCAR ARNULFO ROMERO Y GALDÁMEZ”
DESCRIPTION:PIP PROCESO CEPA DSO-03 2023 DISEÑO PTAR AIES \nDSO PROCESO CEPA SDC03-2023 DISEÑO PTAR AIES.pdf
URL:https://www.cepa.gob.sv/event/cepa-sdc-03-2023-consultoria-de-diseno-para-la-rehabilitacion-de-la-planta-de-tratamiento-alfa-del-aeropuerto-internacional-de-el-salvador-san-oscar-arnulfo-romero-y-galdamez/
CATEGORIES:Licitación Abierta
END:VEVENT
BEGIN:VEVENT
DTSTART;TZID=America/Chicago:20230907T080000
DTEND;TZID=America/Chicago:20230921T120000
DTSTAMP:20260424T145342
CREATED:20230906T234600Z
LAST-MODIFIED:20230907T142538Z
UID:10384-1694073600-1695297600@www.cepa.gob.sv
SUMMARY:CEPA LC-14/2023 “SUMINISTRO DE PINTURAS PARA LAS EMPRESAS DE CEPA”
DESCRIPTION:RECEPCIÓN DE OFERTA: \nSe les solicita realizar la remisión de su oferta en físico\, el día 22 DE SEPTIEMBRE DE 2023\, de 8:00 a.m. hasta las 10:00 horas\, hora oficial de la República de El Salvador (UTC-6:00)\, en Oficina de la UCP\, ubicada en el Sótano del Edificio Torre Roble\, Bulevar Los Héroes\, San Salvador\, El Salvador. (Entrada ubicada en la primera planta\, contiguo a Banco Promérica). \nHORA DE APERTURA: 10:01 a.m. del 22 de septiembre de 2023 \nDOCUMENTO DE SOLICITUD DE OFERTA LC-14-2023 \nPIP LC-14-2023 \n 
URL:https://www.cepa.gob.sv/event/cepa-lc-14-2023-suministro-de-pinturas-para-las-empresas-de-cepa/
CATEGORIES:Licitación Abierta
END:VEVENT
BEGIN:VEVENT
DTSTART;TZID=America/Chicago:20230907T080000
DTEND;TZID=America/Chicago:20230918T170000
DTSTAMP:20260424T145342
CREATED:20230907T192342Z
LAST-MODIFIED:20230907T192342Z
UID:10403-1694073600-1695056400@www.cepa.gob.sv
SUMMARY:CEPA LC 15/2023 “SUMINISTRO DE MATERIALES DE LIMPIEZA PARA LAS EMPRESAS DE CEPA”
DESCRIPTION:DSO CEPA LC 15-2023 Materiales de limpieza CEPA \n  \n 
URL:https://www.cepa.gob.sv/event/cepa-lc-15-2023-suministro-de-materiales-de-limpieza-para-las-empresas-de-cepa/
CATEGORIES:Licitación Abierta
END:VEVENT
BEGIN:VEVENT
DTSTART;TZID=America/Chicago:20230907T080000
DTEND;TZID=America/Chicago:20230913T164500
DTSTAMP:20260424T145342
CREATED:20230908T143615Z
LAST-MODIFIED:20230908T143615Z
UID:10416-1694073600-1694623500@www.cepa.gob.sv
SUMMARY:CEPA-CDP 53/2023 “SUMINISTRO DE HERRAMIENTAS Y MATERIALES PARA MANTENIMIENTO PREVENTIVO Y CORRECTIVO DE EQUIPOS DE SEGURIDAD ELECTRÓNICA DE OFICINA CENTRAL Y AEROPUERTO INTERNACIONAL DE EL SALVADOR\, SAN ÓSCAR ARNULFO ROMERO Y GALDÁMEZ”.
DESCRIPTION:DOCUMENTO DE SOLICITUD DE OFERTA CEPA-CDP 53-2023.docx \nDOCUMENTO DE SOLICITUD DE OFERTA CEPA-CDP 53-2023.pdf
URL:https://www.cepa.gob.sv/event/cepa-cdp-53-2023-suministro-de-herramientas-y-materiales-para-mantenimiento-preventivo-y-correctivo-de-equipos-de-seguridad-electronica-de-oficina-central-y-aeropuerto-internacional-de-el-sal/
CATEGORIES:Licitación Abierta
END:VEVENT
BEGIN:VEVENT
DTSTART;TZID=America/Chicago:20230907T080000
DTEND;TZID=America/Chicago:20230912T230000
DTSTAMP:20260424T145342
CREATED:20230907T201743Z
LAST-MODIFIED:20230907T201743Z
UID:10412-1694073600-1694559600@www.cepa.gob.sv
SUMMARY:CEPA CDP 86-2023\, “SUMINISTRO DE REPUESTOS PARA FARO GIRATORIO DEL AEROPUERTO INTERNACIONAL EL SALVADOR SAN ÓSCAR ARNULFO ROMERO Y GALDÁMEZ”
DESCRIPTION:DSO CDP 86-2023 SUMINISTRO DE REPUESTOS PARA FARO AIES COMPRASAL.docx \nDSO CEPA CDP 86-2023 REPUESTOS PARA FARO AIES SOARG COMPRASAL.pdf \n 
URL:https://www.cepa.gob.sv/event/cepa-cdp-86-2023-suministro-de-repuestos-para-faro-giratorio-del-aeropuerto-internacional-el-salvador-san-oscar-arnulfo-romero-y-galdamez/
CATEGORIES:Licitación Abierta
END:VEVENT
BEGIN:VEVENT
DTSTART;TZID=America/Chicago:20230907T080000
DTEND;TZID=America/Chicago:20230910T170000
DTSTAMP:20260424T145342
CREATED:20230907T130319Z
LAST-MODIFIED:20230907T130319Z
UID:10388-1694073600-1694365200@www.cepa.gob.sv
SUMMARY:CEPA CDP 76-2023\, “SUMINISTRO DE MANGUERAS DE LONA CON SUS ACCESORIOS Y LÁMPARAS DE MANO\, PARA LAS SECCIONES DE SALVAMENTO Y EXTINCIÓN DE INCENDIOS DEL AEROPUERTO INTERNACIONAL DE ILOPANGO Y EL AEROPUERTO INTERNACIONAL DE EL SALVADOR\, SAN ÓSCAR ARNULFO ROMERO Y GALDÁMEZ”.
DESCRIPTION:DSO CDP 76-2023 SUMINISTRO DE LAMAPAS DE MANO Y MANGUERAS rv US \nDSO CEPA CDP_76-2023 MANGUERAS Y LAMPARAS_COMPRASAL \n  \n 
URL:https://www.cepa.gob.sv/event/cepa-cdp-76-2023-suministro-de-mangueras-de-lona-con-sus-accesorios-y-lamparas-de-mano-para-las-secciones-de-salvamento-y-extincion-de-incendios-del-aeropuerto-internacional-de-ilopango-y-e/
CATEGORIES:Licitación Abierta
END:VEVENT
BEGIN:VEVENT
DTSTART;TZID=America/Chicago:20230906T080000
DTEND;TZID=America/Chicago:20230913T164500
DTSTAMP:20260424T145342
CREATED:20230906T173239Z
LAST-MODIFIED:20230906T173239Z
UID:10381-1693987200-1694623500@www.cepa.gob.sv
SUMMARY:COMPARACIÓN DE PRECIOS CEPA-CDP 65/2023 “SUMINISTRO DE INSUMOS MEDICOS PARA LAS EMPRESAS DE CEPA”
DESCRIPTION:Documento de Solicitud de Oferta CEPA-CDP 65-2023 Suministro de Insumos medicos para CEPA.docx \nDocumento de Solicitud de Oferta CEPA-CDP 65-2023 Suministro de Insumos medicos para CEPA.pdf
URL:https://www.cepa.gob.sv/event/comparacion-de-precios-cepa-cdp-65-2023-suministro-de-insumos-medicos-para-las-empresas-de-cepa/
CATEGORIES:Licitación Abierta
END:VEVENT
BEGIN:VEVENT
DTSTART;TZID=America/Chicago:20230906T080000
DTEND;TZID=America/Chicago:20230913T164500
DTSTAMP:20260424T145342
CREATED:20230906T172745Z
LAST-MODIFIED:20230906T172745Z
UID:10377-1693987200-1694623500@www.cepa.gob.sv
SUMMARY:COMPARACIÓN DE PRECIOS CEPA-CDP 51/2023 “SUMINISTRO DE MEDICAMENTOS PARA LAS EMPRESAS DE CEPA”
DESCRIPTION:Documento de Solicitud de Oferta CEPA-CDP 51-2023 Medicamentos para CEPA.docx \nDocumento de Solicitud de Oferta CEPA-CDP 51-2023 Medicamentos para CEPA.pdf
URL:https://www.cepa.gob.sv/event/comparacion-de-precios-cepa-cdp-51-2023-suministro-de-medicamentos-para-las-empresas-de-cepa/
CATEGORIES:Licitación Abierta
END:VEVENT
BEGIN:VEVENT
DTSTART;TZID=America/Chicago:20230901T080000
DTEND;TZID=America/Chicago:20230907T235500
DTSTAMP:20260424T145342
CREATED:20230901T202728Z
LAST-MODIFIED:20230901T202728Z
UID:10357-1693555200-1694130900@www.cepa.gob.sv
SUMMARY:CEPA CDP 73-2023\, “SUMINISTRO E INSTALACIÓN DE UN ELEVADOR DE 4 COLUMNAS PARA VEHÍCULOS\, UNA BALANCEADORA DE LLANTAS Y UNA ALINEADORA DE LLANTAS PARA EL TALLER AUTOMOTRIZ DEL AEROPUERTO INTERNACIONAL DE EL SALVADOR\, SAN OSCAR ARNULFO ROMERO Y GALDÁMEZ”
DESCRIPTION:DSO CEPA CDP 41-2023 COMPRASAL.pdf \nSOLICITUD DE OFERTA CEPA-CDP 41-2023 COMPRASAL.docx
URL:https://www.cepa.gob.sv/event/cepa-cdp-73-2023-suministro-e-instalacion-de-un-elevador-de-4-columnas-para-vehiculos-una-balanceadora-de-llantas-y-una-alineadora-de-llantas-para-el-taller-automotriz-del-aeropuerto-intern/
CATEGORIES:Licitación Abierta
END:VEVENT
BEGIN:VEVENT
DTSTART;TZID=America/Chicago:20230901T080000
DTEND;TZID=America/Chicago:20230907T164500
DTSTAMP:20260424T145342
CREATED:20230901T215109Z
LAST-MODIFIED:20230901T215109Z
UID:10362-1693555200-1694105100@www.cepa.gob.sv
SUMMARY:CEPA-CDP 79/2023 “SUMINISTRO DE 2 EQUIPOS COMPLETOS DE AUTOCONTENIDOS DE RESPIRACIÓN AUTÓNOMA (SCBA)\, PARA LOS SERVICIOS DE SALVAMENTO Y EXTINCIÓN DE INCENDIOS DEL AEROPUERTO INTERNACIONAL DE ILOPANGO”
DESCRIPTION:DSO CEPA-CDP 79-2023.docx \nDSO CEPA-CDP 79-2023.pdf
URL:https://www.cepa.gob.sv/event/cepa-cdp-79-2023-suministro-de-2-equipos-completos-de-autocontenidos-de-respiracion-autonoma-scba-para-los-servicios-de-salvamento-y-extincion-de-incendios-del-aeropuerto-internacional-de/
CATEGORIES:Licitación Abierta
END:VEVENT
BEGIN:VEVENT
DTSTART;TZID=America/Chicago:20230831T080000
DTEND;TZID=America/Chicago:20230904T170000
DTSTAMP:20260424T145342
CREATED:20230831T153028Z
LAST-MODIFIED:20230831T153028Z
UID:10324-1693468800-1693846800@www.cepa.gob.sv
SUMMARY:CEPA-CDP 75/2023 “SERVICIO DE MANTENIMIENTO DE CASCO Y ESTRUCTURA INTERNA\, REHABILITACIÓN DE PROPELA\, FABRICACIÓN DE LOS EJES DE PROPULSIÓN Y DE BARÓN DEL BOTE PILOTO CALUCO DEL PUERTO DE ACAJUTLA”
DESCRIPTION:DSO CEPA-CDP 75-2023 Mtto. casco y estructura bote piloto -Acajutla
URL:https://www.cepa.gob.sv/event/cepa-cdp-75-2023-servicio-de-mantenimiento-de-casco-y-estructura-interna-rehabilitacion-de-propela-fabricacion-de-los-ejes-de-propulsion-y-de-baron-del-bote-piloto-caluco-del-puerto-de-acaj/
CATEGORIES:Licitación Abierta
END:VEVENT
BEGIN:VEVENT
DTSTART;TZID=America/Chicago:20230830T080000
DTEND;TZID=America/Chicago:20230906T164500
DTSTAMP:20260424T145342
CREATED:20230901T145740Z
LAST-MODIFIED:20230901T145740Z
UID:10329-1693382400-1694018700@www.cepa.gob.sv
SUMMARY:CEPA-CDP 74/2023 “SERVICIO DE REBOBINADO DE MOTORES ELÉCTRICOS\, PARA EL AEROPUERTO INTERNACIONAL DE EL SALVADOR\, SAN ÓSCAR ARNULFO ROMERO Y GALDÁMEZ Y PUERTO DE ACAJUTLA”
DESCRIPTION:DSO CEPA-CDP 74-2023.docx \nDSO CEPA-CDP 74-2023.pdf \n 
URL:https://www.cepa.gob.sv/event/cepa-cdp-74-2023-servicio-de-rebobinado-de-motores-electricos-para-el-aeropuerto-internacional-de-el-salvador-san-oscar-arnulfo-romero-y-galdamez-y-puerto-de-acajutla/
CATEGORIES:Licitación Abierta
END:VEVENT
BEGIN:VEVENT
DTSTART;TZID=America/Chicago:20230828T080000
DTEND;TZID=America/Chicago:20230911T164500
DTSTAMP:20260424T145342
CREATED:20230828T193117Z
LAST-MODIFIED:20230828T193117Z
UID:10304-1693209600-1694450700@www.cepa.gob.sv
SUMMARY:LICITACIÓN COMPETITIVA CEPA LC-05/2023 “SUMINISTRO DE EQUIPO DE PROTECCIÓN PERSONAL PARA LAS EMPRESAS DE CEPA”
DESCRIPTION:AVISO DE CONVOCATORIA LC-05-2023 EPP \nDocumento de Solicitud de Oferta CEPA LC-05-2023 Equipo de Protección Personal.doc \nDocumento de Solicitud de Oferta CEPA LC-05-2023 Equipo de Protección Personal.pdf \n 
URL:https://www.cepa.gob.sv/event/licitacion-competitiva-cepa-lc-05-2023-suministro-de-equipo-de-proteccion-personal-para-las-empresas-de-cepa/
CATEGORIES:Licitación Abierta
END:VEVENT
BEGIN:VEVENT
DTSTART;TZID=America/Chicago:20230828T080000
DTEND;TZID=America/Chicago:20230908T164500
DTSTAMP:20260424T145342
CREATED:20230828T204506Z
LAST-MODIFIED:20230828T204506Z
UID:10307-1693209600-1694191500@www.cepa.gob.sv
SUMMARY:LICITACIÓN COMPETITIVA CEPA  LC 13/2023 “SUMINISTRO DE CAPAS PARA LLUVIA Y BOTAS DE HULE\, PARA LAS EMPRESAS DE CEPA”
DESCRIPTION:DSO CEPA LC 13-2023 Capas para lluvia y botas de hule.docx
URL:https://www.cepa.gob.sv/event/licitacion-competitiva-cepa-lc-13-2023-suministro-de-capas-para-lluvia-y-botas-de-hule-para-las-empresas-de-cepa/
CATEGORIES:Licitación Abierta
END:VEVENT
BEGIN:VEVENT
DTSTART;TZID=America/Chicago:20230828T080000
DTEND;TZID=America/Chicago:20230905T164500
DTSTAMP:20260424T145342
CREATED:20230901T150140Z
LAST-MODIFIED:20230901T150140Z
UID:10333-1693209600-1693932300@www.cepa.gob.sv
SUMMARY:CEPA-CDP 72/2023 “SERVICIO DE MANTENIMIENTO PREVENTIVO Y CORRECTIVO PARA EL SISTEMA DE ARRANQUE DE LAS BOMBAS CONTRA INCENDIO DE LOS MUELLES A\, B Y C DEL PUERTO DE ACAJUTLA”
DESCRIPTION:DSO CEPA-CDP 72-2023.docx \nDSO CEPA-CDP 72-2023.pdf
URL:https://www.cepa.gob.sv/event/cepa-cdp-72-2023-servicio-de-mantenimiento-preventivo-y-correctivo-para-el-sistema-de-arranque-de-las-bombas-contra-incendio-de-los-muelles-a-b-y-c-del-puerto-de-acajutla/
CATEGORIES:Licitación Abierta
END:VEVENT
BEGIN:VEVENT
DTSTART;TZID=America/Chicago:20230825T080000
DTEND;TZID=America/Chicago:20230831T164500
DTSTAMP:20260424T145342
CREATED:20230825T193940Z
LAST-MODIFIED:20230825T193940Z
UID:10298-1692950400-1693500300@www.cepa.gob.sv
SUMMARY:CEPA-CDP 70/2023 “SUMINISTRO DE LAPTOP DE ALTO RENDIEMIENTO Y MONITORES CURVOS\, PARA EL EQUIPAMIENTO Y MEJORAS DEL CENTRO DE OPERACIONES DE SEGURIDAD COS DE OFICINA CENTRAL”
DESCRIPTION:DSO CEPA-CDP 70-2023.docx \nDSO CEPA-CDP 70-2023.pdf
URL:https://www.cepa.gob.sv/event/cepa-cdp-70-2023-suministro-de-laptop-de-alto-rendiemiento-y-monitores-curvos-para-el-equipamiento-y-mejoras-del-centro-de-operaciones-de-seguridad-cos-de-oficina-central/
CATEGORIES:Licitación Abierta
END:VEVENT
BEGIN:VEVENT
DTSTART;TZID=America/Chicago:20230824T170000
DTEND;TZID=America/Chicago:20230831T233000
DTSTAMP:20260424T145342
CREATED:20230824T232353Z
LAST-MODIFIED:20230824T232353Z
UID:10294-1692896400-1693524600@www.cepa.gob.sv
SUMMARY:CEPA CDP 73-2023\, “SERVICIO DE MANTENIMIENTO Y REPARACIÓN DE AIRE ACONDICIONADO PARA AEROBÚS 213 MERCEDES BENZ Y CAMIÓN DE SALVAMENTO 222 OSHKOSH DEL AEROPUERTO INTERNACIONAL DE EL SALVADOR\, SAN ÓSCAR ARNULFO ROMERO Y GALDÁMEZ”
DESCRIPTION:CEPA CDP 73-2023 A_A AEROBUS Y CAMION OSHKOSH \nDSO CDP 73-2023 Mtt y Repara A-A AIES COMPRASAL \n 
URL:https://www.cepa.gob.sv/event/cepa-cdp-73-2023-servicio-de-mantenimiento-y-reparacion-de-aire-acondicionado-para-aerobus-213-mercedes-benz-y-camion-de-salvamento-222-oshkosh-del-aeropuerto-internacional-de-el-salvador-s/
CATEGORIES:Licitación Abierta
END:VEVENT
BEGIN:VEVENT
DTSTART;TZID=America/Chicago:20230822T000000
DTEND;TZID=America/Chicago:20230831T000000
DTSTAMP:20260424T145342
CREATED:20230822T225536Z
LAST-MODIFIED:20230822T230033Z
UID:10279-1692662400-1693440000@www.cepa.gob.sv
SUMMARY:CEPA CD 28/2023 “SUMINISTRO E INSTALACIÓN VIDRIO PARA FACHADAS Y DIVISIONES INTERNAS COMO COMPLEMENTO DEL PROYECTO: AMPLIACIÓN DE LA TERMINAL DE PASAJEROS DEL AEROPUERTO INTERNACIONAL DE ILOPANGO”
DESCRIPTION:  \nDSO-CEPA-CD-28-2023-Suministro-e-instalacion-de-vidrio-AILO.docx \n  \n  \n 
URL:https://www.cepa.gob.sv/event/cepa-cd-28-2023-suministro-e-instalacion-vidrio-para-fachadas-y-divisiones-internas-como-complemento-del-proyecto-ampliacion-de-la-terminal-de-pasajeros-del-aeropuerto-internacional-de-ilopa/
CATEGORIES:Licitación Abierta
END:VEVENT
BEGIN:VEVENT
DTSTART;TZID=America/Chicago:20230822T000000
DTEND;TZID=America/Chicago:20230825T000000
DTSTAMP:20260424T145342
CREATED:20230822T234551Z
LAST-MODIFIED:20230822T231805Z
UID:10286-1692662400-1692921600@www.cepa.gob.sv
SUMMARY:CEPA-CDP 34/2023 “SERVICIO DE MANTENIMIENTO DE UN EQUIPO DE RECARGA DE AUTOCONTENIDOS SCBA (CASCADA) MARCA MAKO\, DEL ÁREA DE SALVAMENTO Y EXTINCIÓN DE INCENDIOS DEL AEROPUERTO INTERNACIONAL DE EL SALVADOR\, SAN ÓSCAR ARNULFO ROMERO Y GALDÁMEZ”.
DESCRIPTION:SOLICITUD-DE-OFERTA-CEPA-CDP-34-2023-MTTO-CASCADA-MAKO-AIES-comprasal.docx \nSOLICITUD-DE-OFERTA-CEPA-CDP-34-2023-MTTO-CASCADA-MAKO-AIES-comprasal.pdf
URL:https://www.cepa.gob.sv/event/cepa-cdp-34-2023-servicio-de-mantenimiento-de-un-equipo-de-recarga-de-autocontenidos-scba-cascada-marca-mako-del-area-de-salvamento-y-extincion-de-incendios-del-aeropuerto-internacional-de/
CATEGORIES:Licitación Abierta
END:VEVENT
BEGIN:VEVENT
DTSTART;TZID=America/Chicago:20230821T080000
DTEND;TZID=America/Chicago:20230824T150000
DTSTAMP:20260424T145342
CREATED:20230821T225735Z
LAST-MODIFIED:20230821T225818Z
UID:10247-1692604800-1692889200@www.cepa.gob.sv
SUMMARY:CEPA-CDP 69/2023 “SERVICIO DE MANTENIMIENTO DE RECUBRIMIENTO DE CUATRO POLEAS MOTRICES DE BANDAS TRANSPORTADORAS PARA EL PUERTO DE ACAJUTLA”
DESCRIPTION:DSO-CEPA-CDP-69-2023.docx \nDSO-CEPA-CDP-69-2023.pdf \n 
URL:https://www.cepa.gob.sv/event/cepa-cdp-69-2023-servicio-de-mantenimiento-de-recubrimiento-de-cuatro-poleas-motrices-de-bandas-transportadoras-para-el-puerto-de-acajutla/
CATEGORIES:Licitación Abierta
END:VEVENT
BEGIN:VEVENT
DTSTART;TZID=America/Chicago:20230821T080000
DTEND;TZID=America/Chicago:20230823T170000
DTSTAMP:20260424T145342
CREATED:20230822T133454Z
LAST-MODIFIED:20230822T141840Z
UID:10259-1692604800-1692810000@www.cepa.gob.sv
SUMMARY:CDP 68-2023 “SUMINISTRO DE EMULSIÓN Y MEZCLA ASFÁLTICA PARA EL PUERTO DE ACAJUTLA Y EL AEROPUERTO INTERNACIONAL DE EL SALVADOR SAN ÓSCAR ARNULFO ROMERO Y GALDÁMEZ”
DESCRIPTION:CEPA CDP 68-2023 COMPRASAL \nDSO CEPA-CDP 68-2023 Emulsión y Mezcla asfáltica COMPRASAL \n 
URL:https://www.cepa.gob.sv/event/dcp-68-2023-suministro-de-emulsion-y-mezcla-asfaltica-para-el-puerto-de-acajutla-y-el-aeropuerto-internacional-de-el-salvador-san-oscar-arnulfo-romero-y-galdamez-2/
CATEGORIES:Licitación Abierta
END:VEVENT
BEGIN:VEVENT
DTSTART;TZID=America/Chicago:20230821T080000
DTEND;TZID=America/Chicago:20230821T170000
DTSTAMP:20260424T145342
CREATED:20230821T225828Z
LAST-MODIFIED:20230821T230924Z
UID:10252-1692604800-1692637200@www.cepa.gob.sv
SUMMARY:DCP 68-2023 “SUMINISTRO DE EMULSIÓN Y MEZCLA ASFÁLTICA PARA EL PUERTO DE ACAJUTLA Y EL AEROPUERTO INTERNACIONAL DE EL SALVADOR SAN ÓSCAR ARNULFO ROMERO Y GALDÁMEZ”
DESCRIPTION:
URL:https://www.cepa.gob.sv/event/dcp-68-2023-suministro-de-emulsion-y-mezcla-asfaltica-para-el-puerto-de-acajutla-y-el-aeropuerto-internacional-de-el-salvador-san-oscar-arnulfo-romero-y-galdamez/
CATEGORIES:Licitación Abierta
END:VEVENT
BEGIN:VEVENT
DTSTART;TZID=America/Chicago:20230816T080000
DTEND;TZID=America/Chicago:20230820T115500
DTSTAMP:20260424T145342
CREATED:20230816T172059Z
LAST-MODIFIED:20230816T173656Z
UID:10211-1692172800-1692532500@www.cepa.gob.sv
SUMMARY:CEPA CDP 55-2023 “SUMINISTRO DE MUNICIONES Y SILUETAS PARA PRACTICA DE TIROS DE LAS AREAS DE SEGURIDAD DE LA CEPA”
DESCRIPTION:CDP-55_2023-SUMINISTRO-DE-MUNICIONES-Y-SILUETAS-COMPRASAL.pdf \n  \nDSO-CEPA-CDP-55-2023-MUNICIONES-COMPRASAL.docx \n  \n 
URL:https://www.cepa.gob.sv/event/cepa-cdp-55-2023-suministro-de-municiones-y-siluetas-para-practica-de-tiros-de-las-areas-de-seguridad-de-la-cepa/
CATEGORIES:Licitación Abierta
END:VEVENT
BEGIN:VEVENT
DTSTART;TZID=America/Chicago:20230815T175500
DTEND;TZID=America/Chicago:20231010T180500
DTSTAMP:20260424T145342
CREATED:20230816T210646Z
LAST-MODIFIED:20230816T214109Z
UID:10214-1692122100-1696961100@www.cepa.gob.sv
SUMMARY:CD-23/2023 “SUMINISTRO DE PLATAFORMA HIDRÁULICA Y ELEVADOR HIDRÁULICO PARA EL AEROPUERTO INTERNACIONAL DE EL SALVADOR\, SAN OSCAR ARNULFO ROMERO Y GALDÁMEZ”:
DESCRIPTION:DSO-CD-23-2023-ELEV-Y-PLATAFO-HIDRAULICA-AIES.pdf \nDSO-CD-23-2023-ELEVADOR-Y-PLATAF-HIDRA-AIES-rev-mg.docx \n 
URL:https://www.cepa.gob.sv/event/cd-23-2023-suministro-de-plataforma-hidraulica-y-elevador-hidraulico-para-el-aeropuerto-internacional-de-el-salvador-san-oscar-arnulfo-romero-y-galdamez/
CATEGORIES:Licitación Abierta
END:VEVENT
BEGIN:VEVENT
DTSTART;TZID=America/Chicago:20230815T080000
DTEND;TZID=America/Chicago:20231011T164500
DTSTAMP:20260424T145342
CREATED:20230816T143330Z
LAST-MODIFIED:20230816T143330Z
UID:10206-1692086400-1697042700@www.cepa.gob.sv
SUMMARY:CEPA LC-12/2023 “SUMINISTRO E INSTALACIÓN DE TAPIAL PREFABRICADO EN EL PERÍMETRO SUR\, FASE II DEL AEROPUERTO INTERNACIONAL DE EL SALVADOR\, SAN OSCAR ARNULFO ROMERO Y GALDÁMEZ”.
DESCRIPTION:DSO LC-12-2023 SUMINISTRO E INST. DE TAPIAL.docx \nDSO LC-12-2023 SUMINISTRO TAPIAL.pdf
URL:https://www.cepa.gob.sv/event/cepa-lc-12-2023-suministro-e-instalacion-de-tapial-prefabricado-en-el-perimetro-sur-fase-ii-del-aeropuerto-internacional-de-el-salvador-san-oscar-arnulfo-romero-y-galdamez/
CATEGORIES:Licitación Abierta
END:VEVENT
END:VCALENDAR